BEGIN:VCALENDAR
VERSION:2.0
PRODID:-//Investment Treaty News - ECPv5.4.0.2//NONSGML v1.0//EN
CALSCALE:GREGORIAN
METHOD:PUBLISH
X-WR-CALNAME:Investment Treaty News
X-ORIGINAL-URL:https://test.iisd.org/itn/en
X-WR-CALDESC:Events for Investment Treaty News
BEGIN:VTIMEZONE
TZID:America/Winnipeg
BEGIN:DAYLIGHT
TZOFFSETFROM:-0600
TZOFFSETTO:-0500
TZNAME:CDT
DTSTART:20180311T080000
END:DAYLIGHT
BEGIN:STANDARD
TZOFFSETFROM:-0500
TZOFFSETTO:-0600
TZNAME:CST
DTSTART:20181104T070000
END:STANDARD
END:VTIMEZONE
BEGIN:VEVENT
DTSTART;TZID=America/Winnipeg:20180526T090000
DTEND;TZID=America/Winnipeg:20180526T183000
DTSTAMP:20210316T051039
CREATED:20180426T145328Z
LAST-MODIFIED:20181221T164829Z
UID:5153-1527325200-1527359400@test.iisd.org
SUMMARY:9TH INVESTMENT ARBITRATION FORUM: VALUATION OF DAMAGES IN CHANGING ECONOMIC AND POLITICAL CIRCUMSTANCES: LESSONS LEARNT IN LATIN AMERICA – RELEVANT FOR INVESTMENT ARBITRATION IN EUROPE?
DESCRIPTION:9TH INVESTMENT ARBITRATION FORUM: VALUATION OF DAMAGES IN CHANGING ECONOMIC AND POLITICAL CIRCUMSTANCES: LESSONS LEARNT IN LATIN AMERICA – RELEVANT FOR INVESTMENT ARBITRATION IN EUROPE?\, organized by International Chamber of Commerce (ICC) Austria\, at Vienna University\, in Vienna\, Austria\, https://www.icc-austria.org/fxdata/iccws/download/seminar/Ninth-Investment-Arbitration-Forum-invitation-brochure–(1).pdf \nShareTweetShare0 Shares
URL:https://test.iisd.org/itn/en/event/9th-investment-arbitration-forum-valuation-of-damages-in-changing-economic-and-political-circumstances-lessons-learnt-in-latin-america-relevant-for-investment-arbitration-in-europe/
END:VEVENT
END:VCALENDAR