BEGIN:VCALENDAR
VERSION:2.0
PRODID:-//Investment Treaty News - ECPv5.4.0.2//NONSGML v1.0//EN
CALSCALE:GREGORIAN
METHOD:PUBLISH
X-WR-CALNAME:Investment Treaty News
X-ORIGINAL-URL:https://test.iisd.org/itn/en
X-WR-CALDESC:Events for Investment Treaty News
BEGIN:VTIMEZONE
TZID:America/Winnipeg
BEGIN:DAYLIGHT
TZOFFSETFROM:-0600
TZOFFSETTO:-0500
TZNAME:CDT
DTSTART:20200308T080000
END:DAYLIGHT
BEGIN:STANDARD
TZOFFSETFROM:-0500
TZOFFSETTO:-0600
TZNAME:CST
DTSTART:20201101T070000
END:STANDARD
END:VTIMEZONE
BEGIN:VEVENT
DTSTART;TZID=America/Winnipeg:20200624T130000
DTEND;TZID=America/Winnipeg:20200624T140000
DTSTAMP:20210316T043943
CREATED:20200625T204009Z
LAST-MODIFIED:20200625T204009Z
UID:7964-1593003600-1593007200@test.iisd.org
SUMMARY:An Interview with UNCITRAL Secretary Anna Joubin-Bret – 17th ITA–ASIL Conference
DESCRIPTION:An Interview with UNCITRAL Secretary Anna Joubin-Bret – 17th ITA–ASIL Conference\, Virtual Event\, 1 to 3 pm EST\, https://www.cailaw.org/Institute-for-Transnational-Arbitration/Events/2020/ita-asil-c.html \nShareTweetShare0 Shares
URL:https://test.iisd.org/itn/en/event/an-interview-with-uncitral-secretary-anna-joubin-bret-17th-ita-asil-conference/
LOCATION:Online
END:VEVENT
END:VCALENDAR