BEGIN:VCALENDAR
VERSION:2.0
PRODID:-//Investment Treaty News - ECPv5.4.0.2//NONSGML v1.0//EN
CALSCALE:GREGORIAN
METHOD:PUBLISH
X-WR-CALNAME:Investment Treaty News
X-ORIGINAL-URL:https://test.iisd.org/itn/en
X-WR-CALDESC:Events for Investment Treaty News
BEGIN:VTIMEZONE
TZID:America/Winnipeg
BEGIN:DAYLIGHT
TZOFFSETFROM:-0600
TZOFFSETTO:-0500
TZNAME:CDT
DTSTART:20180311T080000
END:DAYLIGHT
BEGIN:STANDARD
TZOFFSETFROM:-0500
TZOFFSETTO:-0600
TZNAME:CST
DTSTART:20181104T070000
END:STANDARD
END:VTIMEZONE
BEGIN:VEVENT
DTSTART;VALUE=DATE:20181015
DTEND;VALUE=DATE:20181020
DTSTAMP:20210316T050312
CREATED:20181221T164803Z
LAST-MODIFIED:20181221T164803Z
UID:5454-1539561600-1539993599@test.iisd.org
SUMMARY:ANNUAL GENERAL MEETING 2018
DESCRIPTION:ANNUAL GENERAL MEETING 2018\, Intergovernmental Forum on Mining\, Minerals\, Metals and Sustainable Development (IGF)\, at the Palais des Nations\, Geneva\, Switzerland\, http://igfmining.org/agm-2018/ \nShareTweetShare0 Shares
URL:https://test.iisd.org/itn/en/event/annual-general-meeting-2018/
LOCATION:Palais des Nations\, 1211 Geneva\, Geneva\, Switzerland
END:VEVENT
END:VCALENDAR