BEGIN:VCALENDAR
VERSION:2.0
PRODID:-//Investment Treaty News - ECPv5.4.0.2//NONSGML v1.0//EN
CALSCALE:GREGORIAN
METHOD:PUBLISH
X-WR-CALNAME:Investment Treaty News
X-ORIGINAL-URL:https://test.iisd.org/itn/en
X-WR-CALDESC:Events for Investment Treaty News
BEGIN:VTIMEZONE
TZID:America/Winnipeg
BEGIN:DAYLIGHT
TZOFFSETFROM:-0600
TZOFFSETTO:-0500
TZNAME:CDT
DTSTART:20180311T080000
END:DAYLIGHT
BEGIN:STANDARD
TZOFFSETFROM:-0500
TZOFFSETTO:-0600
TZNAME:CST
DTSTART:20181104T070000
END:STANDARD
END:VTIMEZONE
BEGIN:VEVENT
DTSTART;VALUE=DATE:20180511
DTEND;VALUE=DATE:20180512
DTSTAMP:20210316T051051
CREATED:20180426T145328Z
LAST-MODIFIED:20181221T164829Z
UID:5145-1525996800-1526083199@test.iisd.org
SUMMARY:CONFERENCE: KEY ISSUES IN INTERNATIONAL ARBITRATION: ADVOCACY\, DAMAGE CALCULATION\, SETTLEMENT AND CYBERSECURITY
DESCRIPTION:CONFERENCE: KEY ISSUES IN INTERNATIONAL ARBITRATION: ADVOCACY\, DAMAGE CALCULATION\, SETTLEMENT AND CYBERSECURITY\, organized by International Centre for Settlement of Investment Disputes (ICSID)\, Arbitration Institute of the Stockholm Chamber of Commerce (SCC)\, Energy Charter Secretariat (ECS) and Permanent Court of Arbitration (PCA)\, at World Bank Conference Centre\, in Paris\, France\, https://icsid.worldbank.org/en/Documents/ECTConferenceProgramMay2018.pdf \nShareTweetShare0 Shares
URL:https://test.iisd.org/itn/en/event/conference-key-issues-in-international-arbitration-advocacy-damage-calculation-settlement-and-cybersecurity/
END:VEVENT
END:VCALENDAR