BEGIN:VCALENDAR
VERSION:2.0
PRODID:-//Investment Treaty News - ECPv5.4.0.2//NONSGML v1.0//EN
CALSCALE:GREGORIAN
METHOD:PUBLISH
X-WR-CALNAME:Investment Treaty News
X-ORIGINAL-URL:https://test.iisd.org/itn/en
X-WR-CALDESC:Events for Investment Treaty News
BEGIN:VTIMEZONE
TZID:America/Winnipeg
BEGIN:DAYLIGHT
TZOFFSETFROM:-0600
TZOFFSETTO:-0500
TZNAME:CDT
DTSTART:20180311T080000
END:DAYLIGHT
BEGIN:STANDARD
TZOFFSETFROM:-0500
TZOFFSETTO:-0600
TZNAME:CST
DTSTART:20181104T070000
END:STANDARD
END:VTIMEZONE
BEGIN:VEVENT
DTSTART;TZID=America/Winnipeg:20180502T083000
DTEND;TZID=America/Winnipeg:20180502T160000
DTSTAMP:20210316T051042
CREATED:20180426T145329Z
LAST-MODIFIED:20181221T164829Z
UID:5127-1525249800-1525276800@test.iisd.org
SUMMARY:FORUM: INVESTOR STATE DISPUTE SETTLEMENT (ISDS) AND THE DEVELOPMENT OF INVESTOR STATE (IS) MEDIATION
DESCRIPTION:FORUM: INVESTOR STATE DISPUTE SETTLEMENT (ISDS) AND THE DEVELOPMENT OF INVESTOR STATE (IS) MEDIATION\, organized by the International Centre for Settlement of Investment Disputes (ICSID) and others\, at ADGM Authorities Building\, Abu Dhabi\, United Arab Emirates\, https://goo.gl/oHYwQ5 \nShareTweetShare0 Shares
URL:https://test.iisd.org/itn/en/event/forum-investor-state-dispute-settlement-isds-and-the-development-of-investor-state-is-mediation/
END:VEVENT
END:VCALENDAR