BEGIN:VCALENDAR
VERSION:2.0
PRODID:-//Investment Treaty News - ECPv5.4.0.2//NONSGML v1.0//EN
CALSCALE:GREGORIAN
METHOD:PUBLISH
X-WR-CALNAME:Investment Treaty News
X-ORIGINAL-URL:https://test.iisd.org/itn/en
X-WR-CALDESC:Events for Investment Treaty News
BEGIN:VTIMEZONE
TZID:America/Winnipeg
BEGIN:DAYLIGHT
TZOFFSETFROM:-0600
TZOFFSETTO:-0500
TZNAME:CDT
DTSTART:20180311T080000
END:DAYLIGHT
BEGIN:STANDARD
TZOFFSETFROM:-0500
TZOFFSETTO:-0600
TZNAME:CST
DTSTART:20181104T070000
END:STANDARD
END:VTIMEZONE
BEGIN:VEVENT
DTSTART;VALUE=DATE:20180309
DTEND;VALUE=DATE:20180311
DTSTAMP:20210316T051350
CREATED:20180108T191724Z
LAST-MODIFIED:20181221T164830Z
UID:4971-1520553600-1520726399@test.iisd.org
SUMMARY:Frankfurt Investment Law Workshop 2018: International Investment Law and Constitutional Law
DESCRIPTION:FRANKFURT INVESTMENT LAW WORKSHOP 2018: INTERNATIONAL INVESTMENT LAW AND CONSTITUTIONAL LAW\, Merton Centre for European Integration and International Economic Order\, Goethe University\, University of Glasgow & Amsterdam Center for International Law\, at Campus Westend\, Goethe University\, Frankfurt am Main\, Germany\, https://www.uni-frankfurt.de/69435674/FILW-2018-IIL-and-Constitutional-Law-Program-final-_9_.pdf \nShareTweetShare0 Shares
URL:https://test.iisd.org/itn/en/event/frankfurt-investment-law-workshop-2018-international-investment-law-and-constitutional-law/
LOCATION:Frankfurt\, Germany
END:VEVENT
END:VCALENDAR