BEGIN:VCALENDAR
VERSION:2.0
PRODID:-//Investment Treaty News - ECPv5.4.0.2//NONSGML v1.0//EN
CALSCALE:GREGORIAN
METHOD:PUBLISH
X-WR-CALNAME:Investment Treaty News
X-ORIGINAL-URL:https://test.iisd.org/itn/en
X-WR-CALDESC:Events for Investment Treaty News
BEGIN:VTIMEZONE
TZID:America/Winnipeg
BEGIN:DAYLIGHT
TZOFFSETFROM:-0600
TZOFFSETTO:-0500
TZNAME:CDT
DTSTART:20180311T080000
END:DAYLIGHT
BEGIN:STANDARD
TZOFFSETFROM:-0500
TZOFFSETTO:-0600
TZNAME:CST
DTSTART:20181104T070000
END:STANDARD
END:VTIMEZONE
BEGIN:VEVENT
DTSTART;VALUE=DATE:20181106
DTEND;VALUE=DATE:20181108
DTSTAMP:20210316T045951
CREATED:20181221T164802Z
LAST-MODIFIED:20181221T164802Z
UID:5695-1541462400-1541635199@test.iisd.org
SUMMARY:NEW FRONTIERS OF ALTERNATIVE DISPUTE RESOLUTION (ADR): FROM COMMERCIAL AND INVESTMENT MATTERS TO REGULATORY VIOLATIONS
DESCRIPTION:NEW FRONTIERS OF ALTERNATIVE DISPUTE RESOLUTION (ADR): FROM COMMERCIAL AND INVESTMENT MATTERS TO REGULATORY VIOLATIONS\, International Bar Association (IBA) Mediation Committee\, IBA North America Forum\, McGill University\, Montreal University & International Chamber of Commerce (ICC)\, at McGill Faculty Club and Conference Centre\, Montreal\, Canada\, https://www.ibanet.org/Conferences/conf904.aspx \nShareTweetShare0 Shares
URL:https://test.iisd.org/itn/en/event/new-frontiers-of-alternative-dispute-resolution-adr-from-commercial-and-investment-matters-to-regulatory-violations/
END:VEVENT
END:VCALENDAR