BEGIN:VCALENDAR
VERSION:2.0
PRODID:-//Investment Treaty News - ECPv5.4.0.2//NONSGML v1.0//EN
CALSCALE:GREGORIAN
METHOD:PUBLISH
X-WR-CALNAME:Investment Treaty News
X-ORIGINAL-URL:https://test.iisd.org/itn/en
X-WR-CALDESC:Events for Investment Treaty News
BEGIN:VTIMEZONE
TZID:America/Winnipeg
BEGIN:DAYLIGHT
TZOFFSETFROM:-0600
TZOFFSETTO:-0500
TZNAME:CDT
DTSTART:20180311T080000
END:DAYLIGHT
BEGIN:STANDARD
TZOFFSETFROM:-0500
TZOFFSETTO:-0600
TZNAME:CST
DTSTART:20181104T070000
END:STANDARD
END:VTIMEZONE
BEGIN:VEVENT
DTSTART;VALUE=DATE:20181031
DTEND;VALUE=DATE:20181101
DTSTAMP:20210316T050054
CREATED:20181221T164802Z
LAST-MODIFIED:20181221T164802Z
UID:5692-1540944000-1541030399@test.iisd.org
SUMMARY:STAKEHOLDER SESSION ON UNCITRAL ISDS REFORM PROCESS
DESCRIPTION:STAKEHOLDER SESSION ON UNCITRAL ISDS REFORM PROCESS\, IISD\, Columbia Center on Sustainable Investment (CCSI) & International Institute for Environment and Development (IIED)\, at Diplomatische Akademie Wien\, Vienna\, Austria\, http://bit.ly/2Rkoynj \nShareTweetShare0 Shares
URL:https://test.iisd.org/itn/en/event/stakeholder-session-on-uncitral-isds-reform-process/
END:VEVENT
END:VCALENDAR