BEGIN:VCALENDAR
VERSION:2.0
PRODID:-//Investment Treaty News - ECPv5.4.0.2//NONSGML v1.0//EN
CALSCALE:GREGORIAN
METHOD:PUBLISH
X-WR-CALNAME:Investment Treaty News
X-ORIGINAL-URL:https://test.iisd.org/itn/en
X-WR-CALDESC:Events for Investment Treaty News
BEGIN:VTIMEZONE
TZID:America/Winnipeg
BEGIN:DAYLIGHT
TZOFFSETFROM:-0600
TZOFFSETTO:-0500
TZNAME:CDT
DTSTART:20190310T080000
END:DAYLIGHT
BEGIN:STANDARD
TZOFFSETFROM:-0500
TZOFFSETTO:-0600
TZNAME:CST
DTSTART:20191103T070000
END:STANDARD
END:VTIMEZONE
BEGIN:VEVENT
DTSTART;VALUE=DATE:20191212
DTEND;VALUE=DATE:20191214
DTSTAMP:20210316T044520
CREATED:20191216T222753Z
LAST-MODIFIED:20191216T222753Z
UID:7555-1576108800-1576281599@test.iisd.org
SUMMARY:STRUCTURED DISCUSSIONS ON INVESTMENT FACILITATION FOR DEVELOPMENT: Stocktaking Meeting
DESCRIPTION:STRUCTURED DISCUSSIONS ON INVESTMENT FACILITATION FOR DEVELOPMENT: Stocktaking Meeting\, World Trade Organization (WTO)\, in Geneva\, Switzerland\, http://www.wto.org \nShareTweetShare0 Shares
URL:https://test.iisd.org/itn/en/event/structured-discussions-on-investment-facilitation-for-development-stocktaking-meeting/
LOCATION:WTO\, Geneva\, Switzerland
END:VEVENT
END:VCALENDAR