BEGIN:VCALENDAR
VERSION:2.0
PRODID:-//Investment Treaty News - ECPv5.4.0.2//NONSGML v1.0//EN
CALSCALE:GREGORIAN
METHOD:PUBLISH
X-WR-CALNAME:Investment Treaty News
X-ORIGINAL-URL:https://test.iisd.org/itn/en
X-WR-CALDESC:Events for Investment Treaty News
BEGIN:VTIMEZONE
TZID:America/Winnipeg
BEGIN:DAYLIGHT
TZOFFSETFROM:-0600
TZOFFSETTO:-0500
TZNAME:CDT
DTSTART:20180311T080000
END:DAYLIGHT
BEGIN:STANDARD
TZOFFSETFROM:-0500
TZOFFSETTO:-0600
TZNAME:CST
DTSTART:20181104T070000
END:STANDARD
END:VTIMEZONE
BEGIN:VEVENT
DTSTART;TZID=America/Winnipeg:20181025T130000
DTEND;TZID=America/Winnipeg:20181025T143000
DTSTAMP:20210316T050325
CREATED:20181221T164803Z
LAST-MODIFIED:20181221T164803Z
UID:5679-1540472400-1540477800@test.iisd.org
SUMMARY:THE FUTURE OF INVESTMENT-RELATED DISPUTE SETTLEMENT: OPTIONS AND MODELS
DESCRIPTION:THE FUTURE OF INVESTMENT-RELATED DISPUTE SETTLEMENT: OPTIONS AND MODELS\, World Investment Forum 2018 side event hosted by IISD\, International Commission of Jurists (ICJ)\, & Friedrich Ebert Stiftung (FES)\, at the Palais des Nations\, Geneva\, Switzerland\, https://iisd.org/event/future-investment-related-dispute-settlement-options-and-models \nShareTweetShare0 Shares
URL:https://test.iisd.org/itn/en/event/the-future-of-investment-related-dispute-settlement-options-and-models/
LOCATION:Palais des Nations\, 1211 Geneva\, Geneva\, Switzerland
END:VEVENT
END:VCALENDAR