BEGIN:VCALENDAR
VERSION:2.0
PRODID:-//Investment Treaty News - ECPv5.4.0.2//NONSGML v1.0//EN
CALSCALE:GREGORIAN
METHOD:PUBLISH
X-WR-CALNAME:Investment Treaty News
X-ORIGINAL-URL:https://test.iisd.org/itn/en
X-WR-CALDESC:Events for Investment Treaty News
BEGIN:VTIMEZONE
TZID:America/Winnipeg
BEGIN:DAYLIGHT
TZOFFSETFROM:-0600
TZOFFSETTO:-0500
TZNAME:CDT
DTSTART:20170312T080000
END:DAYLIGHT
BEGIN:STANDARD
TZOFFSETFROM:-0500
TZOFFSETTO:-0600
TZNAME:CST
DTSTART:20171105T070000
END:STANDARD
END:VTIMEZONE
BEGIN:VEVENT
DTSTART;VALUE=DATE:20171130
DTEND;VALUE=DATE:20171201
DTSTAMP:20210316T051639
CREATED:20170926T213151Z
LAST-MODIFIED:20180108T191724Z
UID:4708-1512000000-1512086399@test.iisd.org
SUMMARY:UNIGE–IISD LUNCH SERIES ON INVESTMENT DISPUTES
DESCRIPTION:UNIGE–IISD LUNCH SERIES ON INVESTMENT DISPUTES\, Geneva\, Switzerland\, http://www.iisd.org/project/unige-iisd-lunch- series-investment-disputes \n\n\n\nShareTweetShare0 Shares
URL:https://test.iisd.org/itn/en/event/unige-iisd-lunch-series-on-investment-disputes/
LOCATION:University of Geneva (UNIGE)\, Boulevard du Pont-d'Arve 40\, 1205 Genève\, Switzerland\, Geneva\, Switzerland
END:VEVENT
END:VCALENDAR