BEGIN:VCALENDAR
VERSION:2.0
PRODID:-//Investment Treaty News - ECPv5.4.0.2//NONSGML v1.0//EN
CALSCALE:GREGORIAN
METHOD:PUBLISH
X-WR-CALNAME:Investment Treaty News
X-ORIGINAL-URL:https://test.iisd.org/itn/en
X-WR-CALDESC:Events for Investment Treaty News
BEGIN:VTIMEZONE
TZID:America/Winnipeg
BEGIN:DAYLIGHT
TZOFFSETFROM:-0600
TZOFFSETTO:-0500
TZNAME:CDT
DTSTART:20170312T080000
END:DAYLIGHT
BEGIN:STANDARD
TZOFFSETFROM:-0500
TZOFFSETTO:-0600
TZNAME:CST
DTSTART:20171105T070000
END:STANDARD
END:VTIMEZONE
BEGIN:VEVENT
DTSTART;VALUE=DATE:20170612
DTEND;VALUE=DATE:20170615
DTSTAMP:20210316T070114
CREATED:20170616T135702Z
LAST-MODIFIED:20170626T163311Z
UID:4182-1497225600-1497484799@test.iisd.org
SUMMARY:Training for Mediators in Investor–State Disputes
DESCRIPTION:​The Centre for Effective Dispute Resolution (CEDR)\, the International Centre for Settlement of Investment Disputes (ICSID)\, the International Mediation Institute (IMI) and the International Energy Charter have designed jointly a 3-day mediator training course tailored for investor–state disputes. The course is scheduled to take place on June 12–14\, 2017 at ICSID’s facilities in Washington\, D.C. \nIndividuals who have completed basic mediator training or have practical experience as a mediator will have the opportunity to participate in 2 days of interactive instruction with an accreditation assessment on the 3rd day. Participants who successfully complete the course and assessment will become certified CEDR Mediators in Investor–State Disputes. \nThis training will cover the context and framework of investor–state dispute settlement\, considerations specific to investor-State mediation\, intercultural competency\, process design and conduct of an effective investor-State mediation\, and ethical challenges\, among other topics. \nThe full course program is available here. Registration is open for the course here.
URL:https://test.iisd.org/itn/en/event/training-for-mediators-in-investor-state-disputes/
LOCATION:International Centre for Settlement of Investment Disputes (ICSID)\, 1818 H Street\, N.W. MSN J2-200\,  Washington\, D.C\, 20433\, United States
END:VEVENT
END:VCALENDAR