BEGIN:VCALENDAR
VERSION:2.0
PRODID:-//Investment Treaty News - ECPv5.4.0.2//NONSGML v1.0//EN
CALSCALE:GREGORIAN
METHOD:PUBLISH
X-WR-CALNAME:Investment Treaty News
X-ORIGINAL-URL:https://test.iisd.org/itn/en
X-WR-CALDESC:Events for Investment Treaty News
BEGIN:VTIMEZONE
TZID:America/Winnipeg
BEGIN:DAYLIGHT
TZOFFSETFROM:-0600
TZOFFSETTO:-0500
TZNAME:CDT
DTSTART:20170312T080000
END:DAYLIGHT
BEGIN:STANDARD
TZOFFSETFROM:-0500
TZOFFSETTO:-0600
TZNAME:CST
DTSTART:20171105T070000
END:STANDARD
END:VTIMEZONE
BEGIN:VEVENT
DTSTART;VALUE=DATE:20170622
DTEND;VALUE=DATE:20170623
DTSTAMP:20210316T070030
CREATED:20170616T135701Z
LAST-MODIFIED:20170626T163559Z
UID:4193-1498089600-1498175999@test.iisd.org
SUMMARY:Trade\, Investment Law and Public Health: The Philip Morris Saga
DESCRIPTION:UNIGE–IISD Lunch Series on Investment Disputes\nCompanies are increasingly relying on international trade and investment agreements as a tool to challenge domestic regulatory measures. The proceedings backed by Philip Morris and its affiliates are a telling story in this respect. The battlefield challenging states’ regulations on tobacco products has expanded from domestic courts to international arbitral tribunals to the WTO Dispute Settlement Body (DSB). What do these cases mean for public health measures and the fight against tobacco consumption? What can be learnt from these cases for the future drafting of trade and investment agreements? Join Benn McGrady and discussants to debate and discuss the Philip Morris cases before investor–state arbitral tribunals and the DSB.
URL:https://test.iisd.org/itn/en/event/trade-investment-law-and-public-health-the-philip-morris-saga/
LOCATION:University of Geneva (UNIGE)\, Boulevard du Pont-d'Arve 40\, 1205 Genève\, Switzerland\, Geneva\, Switzerland
END:VEVENT
END:VCALENDAR