BEGIN:VCALENDAR
VERSION:2.0
PRODID:-//Investment Treaty News - ECPv5.4.0.2//NONSGML v1.0//EN
CALSCALE:GREGORIAN
METHOD:PUBLISH
X-WR-CALNAME:Investment Treaty News
X-ORIGINAL-URL:https://test.iisd.org/itn/en
X-WR-CALDESC:Events for Investment Treaty News
BEGIN:VTIMEZONE
TZID:America/Winnipeg
BEGIN:DAYLIGHT
TZOFFSETFROM:-0600
TZOFFSETTO:-0500
TZNAME:CDT
DTSTART:20170312T080000
END:DAYLIGHT
BEGIN:STANDARD
TZOFFSETFROM:-0500
TZOFFSETTO:-0600
TZNAME:CST
DTSTART:20171105T070000
END:STANDARD
END:VTIMEZONE
BEGIN:VEVENT
DTSTART;VALUE=DATE:20171016
DTEND;VALUE=DATE:20171021
DTSTAMP:20210316T064318
CREATED:20170926T213151Z
LAST-MODIFIED:20180108T191725Z
UID:4717-1508112000-1508543999@test.iisd.org
SUMMARY:Annual General Meeting 2017
DESCRIPTION:ANNUAL GENERAL MEETING 2017\, “Managing Artisanal and Small-Scale Mining\,” Intergovernmental Forum on Mining\, Minerals\, Metals and Sustainable Development (IGF)\, Geneva\, Switzerland\, http://igfmining.org/agm-2017
URL:https://test.iisd.org/itn/en/event/annual-general-meeting-2017/
LOCATION:IGF\, Geneva\, Switzerland
END:VEVENT
END:VCALENDAR