BEGIN:VCALENDAR
VERSION:2.0
PRODID:-//Investment Treaty News - ECPv5.4.0.2//NONSGML v1.0//EN
CALSCALE:GREGORIAN
METHOD:PUBLISH
X-WR-CALNAME:Investment Treaty News
X-ORIGINAL-URL:https://test.iisd.org/itn/en
X-WR-CALDESC:Events for Investment Treaty News
BEGIN:VTIMEZONE
TZID:America/Winnipeg
BEGIN:DAYLIGHT
TZOFFSETFROM:-0600
TZOFFSETTO:-0500
TZNAME:CDT
DTSTART:20180311T080000
END:DAYLIGHT
BEGIN:STANDARD
TZOFFSETFROM:-0500
TZOFFSETTO:-0600
TZNAME:CST
DTSTART:20181104T070000
END:STANDARD
END:VTIMEZONE
BEGIN:VEVENT
DTSTART;VALUE=DATE:20180207
DTEND;VALUE=DATE:20180210
DTSTAMP:20210316T061255
CREATED:20170616T135702Z
LAST-MODIFIED:20180108T191724Z
UID:4219-1517961600-1518220799@test.iisd.org
SUMMARY:11th Annual Forum of Developing Country Investment Negotiators
DESCRIPTION:We are pleased to announce that the 11th Annual Forum of Developing Country Investment Negotiators will be held in Nairobi\, Kenya on February 7–9\, 2018. It will be co-hosted by the Kenya Investment Authority (KenInvest)\, the International Institute for Sustainable Development (IISD) and the South Centre. \nThe Annual Forum provides a unique platform for discussing current trends and perspectives aimed at ensuring that investment agreements support sustainable development goals. The Forum gives participants an opportunity to share common experiences\, discuss emerging issues\, review recent legal developments\, and to network with colleagues from other developing countries\, experts in the field and members of civil society. \nFor more information on the Annual Forum\, please visit http://www.iisd.org/investment/dci and view our video: http://www.iisd.org/library/annual-forum-developing-country-investment-negotiators.
URL:https://test.iisd.org/itn/en/event/11th-annual-forum-of-developing-country-investment-negotiators/
ATTACH;FMTTYPE=image/png:https://test.iisd.org/itn/wp-content/uploads/2017/06/11th-forum-save-the-date-2017-small.png
END:VEVENT
END:VCALENDAR