BEGIN:VCALENDAR
VERSION:2.0
PRODID:-//Investment Treaty News - ECPv5.4.0.2//NONSGML v1.0//EN
CALSCALE:GREGORIAN
METHOD:PUBLISH
X-WR-CALNAME:Investment Treaty News
X-ORIGINAL-URL:https://test.iisd.org/itn/en
X-WR-CALDESC:Events for Investment Treaty News
BEGIN:VTIMEZONE
TZID:America/Winnipeg
BEGIN:DAYLIGHT
TZOFFSETFROM:-0600
TZOFFSETTO:-0500
TZNAME:CDT
DTSTART:20180311T080000
END:DAYLIGHT
BEGIN:STANDARD
TZOFFSETFROM:-0500
TZOFFSETTO:-0600
TZNAME:CST
DTSTART:20181104T070000
END:STANDARD
END:VTIMEZONE
BEGIN:VEVENT
DTSTART;VALUE=DATE:20180507
DTEND;VALUE=DATE:20180511
DTSTAMP:20210316T051241
CREATED:20180426T145329Z
LAST-MODIFIED:20181221T164829Z
UID:5134-1525651200-1525996799@test.iisd.org
SUMMARY:INVESTOR–STATE MEDIATOR TRAINING
DESCRIPTION:INVESTOR–STATE MEDIATOR TRAINING\, organized by International Centre for Settlement of Investment Disputes (ICSID)\, at World Bank Conference Centre\, in Paris\, France\, https://icsid.worldbank.org/en/Pages/Events.aspx?CID=172
URL:https://test.iisd.org/itn/en/event/investor-state-mediator-training/
END:VEVENT
BEGIN:VEVENT
DTSTART;VALUE=DATE:20180510
DTEND;VALUE=DATE:20180512
DTSTAMP:20210316T051241
CREATED:20180426T145327Z
LAST-MODIFIED:20181221T164829Z
UID:5147-1525910400-1526083199@test.iisd.org
SUMMARY:2018 INVESTMENT ARBITRATION & TRANS-PACIFIC TRANSACTIONS CONFERENCE
DESCRIPTION:2018 INVESTMENT ARBITRATION & TRANS-PACIFIC TRANSACTIONS CONFERENCE\, organized by the American Bar Association (ABA) Section of International Law\, at Maxwell Chambers\, in Singapore\, https://shop.americanbar.org/PersonifyImages/ProductFiles/296454598/Preliminary%20Brochure%20Singapore.pdf
URL:https://test.iisd.org/itn/en/event/2018-investment-arbitration-trans-pacific-transactions-conference/
END:VEVENT
BEGIN:VEVENT
DTSTART;VALUE=DATE:20180510
DTEND;VALUE=DATE:20180512
DTSTAMP:20210316T051241
CREATED:20180426T145329Z
LAST-MODIFIED:20181221T164829Z
UID:5150-1525910400-1526083199@test.iisd.org
SUMMARY:CONFERENCE: INTERNATIONAL INVESTMENT LAW AND NON-COMMUNICABLE DISEASES PREVENTION
DESCRIPTION:CONFERENCE: INTERNATIONAL INVESTMENT LAW AND NON-COMMUNICABLE DISEASES PREVENTION\, organized by Law & NCD Unit\, School of Law and Social Justice\, University of Liverpool\, at University of Liverpool London Campus\, in London\, United Kingdom\, https://www.liverpool.ac.uk/law-and-social-justice/events/international-investment-law-and-ncd-prevention
URL:https://test.iisd.org/itn/en/event/conference-international-investment-law-and-non-communicable-diseases-prevention/
LOCATION:Law & NCD Unit\, School of Law and Social Justice\, University of Liverpool\, University of Liverpool London Campus\, 33 Finsbury Square\, London\, United Kingdom
END:VEVENT
END:VCALENDAR