BEGIN:VCALENDAR
VERSION:2.0
PRODID:-//Investment Treaty News - ECPv5.4.0.2//NONSGML v1.0//EN
CALSCALE:GREGORIAN
METHOD:PUBLISH
X-WR-CALNAME:Investment Treaty News
X-ORIGINAL-URL:https://test.iisd.org/itn/en
X-WR-CALDESC:Events for Investment Treaty News
BEGIN:VTIMEZONE
TZID:America/Winnipeg
BEGIN:DAYLIGHT
TZOFFSETFROM:-0600
TZOFFSETTO:-0500
TZNAME:CDT
DTSTART:20180311T080000
END:DAYLIGHT
BEGIN:STANDARD
TZOFFSETFROM:-0500
TZOFFSETTO:-0600
TZNAME:CST
DTSTART:20181104T070000
END:STANDARD
END:VTIMEZONE
BEGIN:VEVENT
DTSTART;TZID=America/Winnipeg:20180601T090000
DTEND;TZID=America/Winnipeg:20180601T183000
DTSTAMP:20210316T053123
CREATED:20180426T145328Z
LAST-MODIFIED:20181221T164829Z
UID:5156-1527843600-1527877800@test.iisd.org
SUMMARY:CONFERENCE: THE FUTURE OF INVESTMENT ARBITRATION IN EUROPE
DESCRIPTION:CONFERENCE: THE FUTURE OF INVESTMENT ARBITRATION IN EUROPE\, organized by Association for International Arbitration (AIA)\, at Conference Hall of Press Club Brussels Europe\, in Brussels\, Belgium\, http://arbitration-adr.org/documents/?i=470
URL:https://test.iisd.org/itn/en/event/conference-the-future-of-investment-arbitration-in-europe/
END:VEVENT
END:VCALENDAR