BEGIN:VCALENDAR
VERSION:2.0
PRODID:-//Investment Treaty News - ECPv5.4.0.2//NONSGML v1.0//EN
CALSCALE:GREGORIAN
METHOD:PUBLISH
X-WR-CALNAME:Investment Treaty News
X-ORIGINAL-URL:https://test.iisd.org/itn/en
X-WR-CALDESC:Events for Investment Treaty News
BEGIN:VTIMEZONE
TZID:America/Winnipeg
BEGIN:DAYLIGHT
TZOFFSETFROM:-0600
TZOFFSETTO:-0500
TZNAME:CDT
DTSTART:20180311T080000
END:DAYLIGHT
BEGIN:STANDARD
TZOFFSETFROM:-0500
TZOFFSETTO:-0600
TZNAME:CST
DTSTART:20181104T070000
END:STANDARD
END:VTIMEZONE
BEGIN:VEVENT
DTSTART;VALUE=DATE:20180927
DTEND;VALUE=DATE:20180929
DTSTAMP:20210316T052432
CREATED:20181221T164829Z
LAST-MODIFIED:20181221T164829Z
UID:5443-1538006400-1538179199@test.iisd.org
SUMMARY:INTERNATIONAL INVESTMENT LAW & COMPETITION LAW COLOQUIUM
DESCRIPTION:INTERNATIONAL INVESTMENT LAW & COMPETITION LAW COLOQUIUM\, University of Zaragoza Faculty of Law\, Athens Public International Law Center of the National and Kapodistrian University of Athens Faculty of Law\, Research Centre of University Paris II Panthéon-Assas (CERSA)\, Research Centre of the University of Burgundy (CREDIMI)\, French National Centre for Scientific Research (CNRS)\, at University of Zaragoza Faculty of Law\, Zaragoza\, Spain\, https://eventos.unizar.es/16674/detail.html
URL:https://test.iisd.org/itn/en/event/international-investment-law-competition-law-coloquium/
LOCATION:Conference Venue\, Calle de Pedro Cerbuna\, 12\, Zaragoza\, 50009\, Spain
END:VEVENT
BEGIN:VEVENT
DTSTART;VALUE=DATE:20180927
DTEND;VALUE=DATE:20180929
DTSTAMP:20210316T052433
CREATED:20181221T164829Z
LAST-MODIFIED:20181221T164829Z
UID:5446-1538006400-1538179199@test.iisd.org
SUMMARY:13TH ANNUAL COLUMBIA INTERNATIONAL INVESTMENT CONFERENCE
DESCRIPTION:13TH ANNUAL COLUMBIA INTERNATIONAL INVESTMENT CONFERENCE\, “Multinationals in the Age of Sustainable Development: New Thinking on the Role of International Investment Agreements\,” CCSI\, at Columbia University\, New York\, United States\, http://ccsi.columbia.edu/2018/09/27/13th-annual-columbia-international-investment-conference-multinationals-in-the-age-of-sustainable-development-new-thinking-on-the-role-of-international-investment-agreements
URL:https://test.iisd.org/itn/en/event/13th-annual-columbia-international-investment-conference/
END:VEVENT
END:VCALENDAR