BEGIN:VCALENDAR
VERSION:2.0
PRODID:-//Investment Treaty News - ECPv5.4.0.2//NONSGML v1.0//EN
CALSCALE:GREGORIAN
METHOD:PUBLISH
X-WR-CALNAME:Investment Treaty News
X-ORIGINAL-URL:https://test.iisd.org/itn/en
X-WR-CALDESC:Events for Investment Treaty News
BEGIN:VTIMEZONE
TZID:America/Winnipeg
BEGIN:DAYLIGHT
TZOFFSETFROM:-0600
TZOFFSETTO:-0500
TZNAME:CDT
DTSTART:20180311T080000
END:DAYLIGHT
BEGIN:STANDARD
TZOFFSETFROM:-0500
TZOFFSETTO:-0600
TZNAME:CST
DTSTART:20181104T070000
END:STANDARD
END:VTIMEZONE
BEGIN:VEVENT
DTSTART;TZID=America/Winnipeg:20181011T121000
DTEND;TZID=America/Winnipeg:20181115T130000
DTSTAMP:20210316T050306
CREATED:20181221T164804Z
LAST-MODIFIED:20181221T164804Z
UID:5671-1539259800-1542286800@test.iisd.org
SUMMARY:FALL 2018 INTERNATIONAL INVESTMENT LAW AND POLICY SPEAKER SERIES
DESCRIPTION:FALL 2018 INTERNATIONAL INVESTMENT LAW AND POLICY SPEAKER SERIES\, Columbia Center on Sustainable Investment (CCSI)\, at Columbia Law School\, New York\, United States\, http://ccsi.columbia.edu/2018/10/11/fall-2018-international-investment-law-and-policy-speaker-series
URL:https://test.iisd.org/itn/en/event/fall-2018-international-investment-law-and-policy-speaker-series/
END:VEVENT
BEGIN:VEVENT
DTSTART;VALUE=DATE:20181022
DTEND;VALUE=DATE:20181027
DTSTAMP:20210316T050306
CREATED:20180515T230939Z
LAST-MODIFIED:20181221T164803Z
UID:5330-1540166400-1540598399@test.iisd.org
SUMMARY:World Investment Forum 2018
DESCRIPTION:WORLD INVESTMENT FORUM 2018\, United Nations Conference on Trade and Development (UNCTAD)\, Geneva\, Switzerland\, http://worldinvestmentforum.unctad.org
URL:https://test.iisd.org/itn/en/event/world-investment-forum-2018/
LOCATION:Palais des Nations\, 1211 Geneva\, Geneva\, Switzerland
END:VEVENT
BEGIN:VEVENT
DTSTART;VALUE=DATE:20181023
DTEND;VALUE=DATE:20181026
DTSTAMP:20210316T050306
CREATED:20181221T164803Z
LAST-MODIFIED:20181221T164803Z
UID:5681-1540252800-1540511999@test.iisd.org
SUMMARY:8th INVESTMENT TREATY ARBITRATION CONFERENCE
DESCRIPTION:8th INVESTMENT TREATY ARBITRATION CONFERENCE\, Ministry of Finance of the Czech Republic & KPMG Czech Republic\, at Lichtenstein Palace\, Prague\, Czechia\, https://home.kpmg.com/cz/en/home/insights/2018/10/8th-investment-treaty-arbitration-conference.html
URL:https://test.iisd.org/itn/en/event/8th-investment-treaty-arbitration-conference/
LOCATION:Lichtenstein Palace\, U Sovových mlýnů 506/4\, Malá Strana\, 118 00\, Czech Republic
END:VEVENT
BEGIN:VEVENT
DTSTART;TZID=America/Winnipeg:20181025T130000
DTEND;TZID=America/Winnipeg:20181025T143000
DTSTAMP:20210316T050306
CREATED:20181221T164803Z
LAST-MODIFIED:20181221T164803Z
UID:5679-1540472400-1540477800@test.iisd.org
SUMMARY:THE FUTURE OF INVESTMENT-RELATED DISPUTE SETTLEMENT: OPTIONS AND MODELS
DESCRIPTION:THE FUTURE OF INVESTMENT-RELATED DISPUTE SETTLEMENT: OPTIONS AND MODELS\, World Investment Forum 2018 side event hosted by IISD\, International Commission of Jurists (ICJ)\, & Friedrich Ebert Stiftung (FES)\, at the Palais des Nations\, Geneva\, Switzerland\, https://iisd.org/event/future-investment-related-dispute-settlement-options-and-models
URL:https://test.iisd.org/itn/en/event/the-future-of-investment-related-dispute-settlement-options-and-models/
LOCATION:Palais des Nations\, 1211 Geneva\, Geneva\, Switzerland
END:VEVENT
END:VCALENDAR