BEGIN:VCALENDAR
VERSION:2.0
PRODID:-//Investment Treaty News - ECPv5.4.0.2//NONSGML v1.0//EN
CALSCALE:GREGORIAN
METHOD:PUBLISH
X-WR-CALNAME:Investment Treaty News
X-ORIGINAL-URL:https://test.iisd.org/itn/en
X-WR-CALDESC:Events for Investment Treaty News
BEGIN:VTIMEZONE
TZID:America/Winnipeg
BEGIN:DAYLIGHT
TZOFFSETFROM:-0600
TZOFFSETTO:-0500
TZNAME:CDT
DTSTART:20190310T080000
END:DAYLIGHT
BEGIN:STANDARD
TZOFFSETFROM:-0500
TZOFFSETTO:-0600
TZNAME:CST
DTSTART:20191103T070000
END:STANDARD
END:VTIMEZONE
BEGIN:VEVENT
DTSTART;TZID=America/Winnipeg:20190521T173000
DTEND;TZID=America/Winnipeg:20190521T190000
DTSTAMP:20210316T061940
CREATED:20190627T152841Z
LAST-MODIFIED:20190627T152841Z
UID:6215-1558459800-1558465200@test.iisd.org
SUMMARY:ARBITRATION COSTS: MYTHS AND REALITIES IN INVESTMENT TREATY ARBITRATION
DESCRIPTION:ARBITRATION COSTS: MYTHS AND REALITIES IN INVESTMENT TREATY ARBITRATION\, ICSID and American University Washington College of Law (AUWCL)\, at ICSID\, in Washington\, D.C.\, United States\, https://icsid.worldbank.org/en/Documents/flyer_arbitration_costs.pdf
URL:https://test.iisd.org/itn/en/event/arbitration-costs-myths-and-realities-in-investment-treaty-arbitration/
LOCATION:ISCID\, 1225 Connecticut Ave.\, N.W.\, Washington D.C.\, WA\, 20036\, United States
END:VEVENT
END:VCALENDAR