BEGIN:VCALENDAR
VERSION:2.0
PRODID:-//Investment Treaty News - ECPv5.4.0.2//NONSGML v1.0//EN
CALSCALE:GREGORIAN
METHOD:PUBLISH
X-WR-CALNAME:Investment Treaty News
X-ORIGINAL-URL:https://test.iisd.org/itn/en
X-WR-CALDESC:Events for Investment Treaty News
BEGIN:VTIMEZONE
TZID:America/Sao_Paulo
BEGIN:STANDARD
TZOFFSETFROM:-0200
TZOFFSETTO:-0300
TZNAME:-03
DTSTART:20190217T020000
END:STANDARD
END:VTIMEZONE
BEGIN:VEVENT
DTSTART;TZID=America/Sao_Paulo:20190522T170000
DTEND;TZID=America/Sao_Paulo:20190522T183000
DTSTAMP:20210316T061919
CREATED:20190627T152840Z
LAST-MODIFIED:20190627T152840Z
UID:6218-1558544400-1558549800@test.iisd.org
SUMMARY:WEBINAR “SUSTAINABLE INVESTMENT IN AGRICULTURE
DESCRIPTION:WEBINAR “SUSTAINABLE INVESTMENT IN AGRICULTURE\,” International Bar Association (IBA) Agricultural Law Section\, https://www.ibanet.org/Conferences/webinar-may22.aspx
URL:https://test.iisd.org/itn/en/event/webinar-sustainable-investment-in-agriculture/
END:VEVENT
END:VCALENDAR