BEGIN:VCALENDAR
VERSION:2.0
PRODID:-//Investment Treaty News - ECPv5.4.0.2//NONSGML v1.0//EN
CALSCALE:GREGORIAN
METHOD:PUBLISH
X-WR-CALNAME:Investment Treaty News
X-ORIGINAL-URL:https://test.iisd.org/itn/en
X-WR-CALDESC:Events for Investment Treaty News
BEGIN:VTIMEZONE
TZID:America/Winnipeg
BEGIN:DAYLIGHT
TZOFFSETFROM:-0600
TZOFFSETTO:-0500
TZNAME:CDT
DTSTART:20190310T080000
END:DAYLIGHT
BEGIN:STANDARD
TZOFFSETFROM:-0500
TZOFFSETTO:-0600
TZNAME:CST
DTSTART:20191103T070000
END:STANDARD
END:VTIMEZONE
BEGIN:VEVENT
DTSTART;VALUE=DATE:20190925
DTEND;VALUE=DATE:20190927
DTSTAMP:20210316T045157
CREATED:20190627T152840Z
LAST-MODIFIED:20190919T031910Z
UID:6487-1569369600-1569542399@test.iisd.org
SUMMARY:3rd UNCITRAL WORKING GROUP III INTER-SESSIONAL REGIONAL MEETING ON ISDS REFORM
DESCRIPTION:3rd UNCITRAL WORKING GROUP III INTER-SESSIONAL REGIONAL MEETING ON ISDS REFORM\, in Conakry\, Guinea\, https://uncitral.un.org/en/events/25-26.9.2019
URL:https://test.iisd.org/itn/en/event/3rd-uncitral-working-group-iii-inter-sessional-regional-meeting-on-isds-reform/
LOCATION:Conakry\, Guinea\, Conakry\, Guinea\, Conakry\, Guinea
END:VEVENT
BEGIN:VEVENT
DTSTART;VALUE=DATE:20190925
DTEND;VALUE=DATE:20190927
DTSTAMP:20210316T045158
CREATED:20190919T031910Z
LAST-MODIFIED:20190919T031910Z
UID:6785-1569369600-1569542399@test.iisd.org
SUMMARY:3rd UNCITRAL WORKING GROUP III INTER-SESSIONAL REGIONAL MEETING ON ISDS REFORM
DESCRIPTION:3rd UNCITRAL WORKING GROUP III INTER-SESSIONAL REGIONAL MEETING ON ISDS REFORM\, in Conakry\, Guinea\, https://uncitral.un.org/en/events/25-26.9.2019
URL:https://test.iisd.org/itn/en/event/3rd-uncitral-working-group-iii-inter-sessional-regional-meeting-on-isds-reform-2/
LOCATION:Primus Hotel Kaloum\, Avenue de la République\, Almamya\, Conakry\, Guinea
END:VEVENT
BEGIN:VEVENT
DTSTART;VALUE=DATE:20190925
DTEND;VALUE=DATE:20190926
DTSTAMP:20210316T045158
CREATED:20190919T031910Z
LAST-MODIFIED:20190919T031910Z
UID:6788-1569369600-1569455999@test.iisd.org
SUMMARY:14th ANNUAL COLUMBIA INTERNATIONAL INVESTMENT CONFERENCE\, “Aligning Corporations with the Sustainable Development Goals”
DESCRIPTION:14th ANNUAL COLUMBIA INTERNATIONAL INVESTMENT CONFERENCE\, “Aligning Corporations with the Sustainable Development Goals\,” at Columbia University Faculty House\, in New York\, United States\, http://ccsi.columbia.edu/2019/09/25/14th-annual-columbia-international-investment-conference-aligning-corporations-with-the-sdgs
URL:https://test.iisd.org/itn/en/event/14th-annual-columbia-international-investment-conference-aligning-corporations-with-the-sustainable-development-goals/
LOCATION:Faculty House\, Columbia University\, 64 Morningside Dr\, New York\, NY\, 10027\, United States
END:VEVENT
END:VCALENDAR