BEGIN:VCALENDAR
VERSION:2.0
PRODID:-//Investment Treaty News - ECPv5.4.0.2//NONSGML v1.0//EN
CALSCALE:GREGORIAN
METHOD:PUBLISH
X-WR-CALNAME:Investment Treaty News
X-ORIGINAL-URL:https://test.iisd.org/itn/en
X-WR-CALDESC:Events for Investment Treaty News
BEGIN:VTIMEZONE
TZID:America/Winnipeg
BEGIN:DAYLIGHT
TZOFFSETFROM:-0600
TZOFFSETTO:-0500
TZNAME:CDT
DTSTART:20190310T080000
END:DAYLIGHT
BEGIN:STANDARD
TZOFFSETFROM:-0500
TZOFFSETTO:-0600
TZNAME:CST
DTSTART:20191103T070000
END:STANDARD
END:VTIMEZONE
BEGIN:VEVENT
DTSTART;VALUE=DATE:20191029
DTEND;VALUE=DATE:20191031
DTSTAMP:20210316T052807
CREATED:20190919T031909Z
LAST-MODIFIED:20190919T031909Z
UID:6804-1572307200-1572479999@test.iisd.org
SUMMARY:6th OECD FORUM ON GREEN FINANCE AND INVESTMENT
DESCRIPTION:6th OECD FORUM ON GREEN FINANCE AND INVESTMENT\, at OECD\, in Paris\, France\, http://www.oecd.org/cgfi/forum
URL:https://test.iisd.org/itn/en/event/6th-oecd-forum-on-green-finance-and-investment/
LOCATION:OECD Conference Centre\, 2\, rue André Pascal\, Paris\, France
END:VEVENT
END:VCALENDAR