BEGIN:VCALENDAR
VERSION:2.0
PRODID:-//Investment Treaty News - ECPv5.4.0.2//NONSGML v1.0//EN
CALSCALE:GREGORIAN
METHOD:PUBLISH
X-WR-CALNAME:Investment Treaty News
X-ORIGINAL-URL:https://test.iisd.org/itn/es
X-WR-CALDESC:Eventos para Investment Treaty News
BEGIN:VTIMEZONE
TZID:America/Winnipeg
BEGIN:DAYLIGHT
TZOFFSETFROM:-0600
TZOFFSETTO:-0500
TZNAME:CDT
DTSTART:20190310T080000
END:DAYLIGHT
BEGIN:STANDARD
TZOFFSETFROM:-0500
TZOFFSETTO:-0600
TZNAME:CST
DTSTART:20191103T070000
END:STANDARD
END:VTIMEZONE
BEGIN:VEVENT
DTSTART;VALUE=DATE:20190516
DTEND;VALUE=DATE:20190517
DTSTAMP:20210316T045544
CREATED:20190627T152841Z
LAST-MODIFIED:20190627T152841Z
UID:6208-1557964800-1558051199@test.iisd.org
SUMMARY:10mo ANIVERSARIO DE LA CONFERENCIA DEL CENTRO DE DERECHO INTERNACIONAL DE LAS INVERSIONES DE COLONIA (IILCC): “Evolución\, Evaluación y Avances Futuros en el Derecho Internacional de las Inversiones”
DESCRIPTION:10mo ANIVERSARIO DE LA CONFERENCIA DEL CENTRO DE DERECHO INTERNACIONAL DE LAS INVERSIONES DE COLONIA (IILCC): “Evolución\, Evaluación y Avances Futuros en el Derecho Internacional de las Inversiones”\, en la Cámara de Comercio e Industria (IHK) de Colonia\, en Colonia\, Alemania\, http://www.iilcc.com \nCompartirTwittearCompartir0 Compartir
URL:https://test.iisd.org/itn/es/event/10th-anniversary-conference-of-the-international-investment-law-centre-cologne-iilcc-evolution-evaluation-and-future-developments-in-international-investment-law/
LOCATION:IHK\, Unter Sachsenhausen 10-26\, Köln\, 50667\, Germany
END:VEVENT
END:VCALENDAR