BEGIN:VCALENDAR
VERSION:2.0
PRODID:-//Investment Treaty News - ECPv5.4.0.2//NONSGML v1.0//EN
CALSCALE:GREGORIAN
METHOD:PUBLISH
X-WR-CALNAME:Investment Treaty News
X-ORIGINAL-URL:https://test.iisd.org/itn/es
X-WR-CALDESC:Eventos para Investment Treaty News
BEGIN:VTIMEZONE
TZID:America/Toronto
BEGIN:DAYLIGHT
TZOFFSETFROM:-0500
TZOFFSETTO:-0400
TZNAME:EDT
DTSTART:20170312T070000
END:DAYLIGHT
BEGIN:STANDARD
TZOFFSETFROM:-0400
TZOFFSETTO:-0500
TZNAME:EST
DTSTART:20171105T060000
END:STANDARD
END:VTIMEZONE
BEGIN:VEVENT
DTSTART;VALUE=DATE:20170412
DTEND;VALUE=DATE:20170416
DTSTAMP:20210316T052616
CREATED:20170427T151251Z
LAST-MODIFIED:20170616T135702Z
UID:4068-1491955200-1492300799@test.iisd.org
SUMMARY:111th Asil Annual Meeting
DESCRIPTION:What International Law Values\nWell into the second decade of the 21st century\, international law continues to expand on numerous fronts. Yet seemingly intractable global problems persist\, raising vital questions about the field. We often ask whether international law is achieving its goals. In this Annual Meeting\, we seek to consider the normative basis of international law and how those goals are realized in practice. \nDoes international law reflect the values of the international community? How do these values affect the practice and theory of international law? For that matter\, should international law reflect the international community’s values\, and what constituencies ought to be considered in determining what those values are? If international law should not reflect values\, why not\, and what interests are served or harmed by treating this body of law as a value-neutral set of rules? What role should international lawyers play in the shaping of those values and how can the core values of our profession – in all its heterogeneity\, contestation\, and dynamism – be brought to bear? \nThrough the panels and events of the 2017 Annual Meeting of the American Society of International Law\, leading and emerging voices in international legal scholarship\, policy\, and practice will attempt to answer these urgent questions. \nAttendees can expect to participate in:\n\nKeynote addresses by leading figures in international law\nMore than 40 substantive panels on a wide variety of international law topics\nMultiple networking and social events\nInterest Group social events and substantive meetings\nAccess to the leading publishers of international law materials\nOptional Continuing Legal Education credits\nOptional luncheons\n\nSession Tracks:\n\nTerritory\, the sea\, space; the management and regulation of natural resources and energy; climate change and sustainable development\nInternational dispute settlement in its public\, private\, and hybrid modalities (including interstate adjudication and arbitration\, international investment arbitration\, and international commercial arbitration; regional and special courts and tribunals; and other forms of dispute resolution\, including conciliation and mediation); the structural\, operational\, and normative dilemmas of inter-governmental organizations\nUse of force\, armed conflict\, national security\, cybersecurity\, cyberwarfare\, and military technology\nHuman rights\, migration\, labor\, and criminal law\nInteractions among international\, regional\, and national law in their public and private forms: international law as domestic law\, domestic law as international law\, transnational law\, foreign relations law\, international law in domestic and regional courts\, private international law and the conflict of laws\nInternational economic law: trade\, investment\, sovereign debt\, financial regulation\, monetary law\, international intellectual property\, tax\, internet governance\, and other cross-border economic technologies and their associated governance regimes\n\n2017 Annual Meeting Committee Members list \nCompartirTwittearCompartir0 Compartir
URL:https://test.iisd.org/itn/es/event/111th-asil-annual-meeting/
LOCATION:When international rules interact: International investment law and the law of armed conflict
END:VEVENT
END:VCALENDAR