BEGIN:VCALENDAR
VERSION:2.0
PRODID:-//Investment Treaty News - ECPv5.4.0.2//NONSGML v1.0//EN
CALSCALE:GREGORIAN
METHOD:PUBLISH
X-WR-CALNAME:Investment Treaty News
X-ORIGINAL-URL:https://test.iisd.org/itn/es
X-WR-CALDESC:Eventos para Investment Treaty News
BEGIN:VTIMEZONE
TZID:America/Toronto
BEGIN:DAYLIGHT
TZOFFSETFROM:-0500
TZOFFSETTO:-0400
TZNAME:EDT
DTSTART:20170312T070000
END:DAYLIGHT
BEGIN:STANDARD
TZOFFSETFROM:-0400
TZOFFSETTO:-0500
TZNAME:EST
DTSTART:20171105T060000
END:STANDARD
END:VTIMEZONE
BEGIN:VEVENT
DTSTART;VALUE=DATE:20170412
DTEND;VALUE=DATE:20170413
DTSTAMP:20210316T052525
CREATED:20170427T152736Z
LAST-MODIFIED:20170616T135702Z
UID:4069-1491955200-1492041599@test.iisd.org
SUMMARY:14th Annual ITA-ASIL Conference
DESCRIPTION:The ½-day ITA-ASIL Conference is presented annually in Washington\, D.C. by the ITA Academic Council with the American Society for International Law (ASIL) immediately preceding the ASIL Annual Meeting. Scholarship is the hallmark of this conference\, the papers from which are published in the law journal World Arbitration and Mediation Review. The conference concludes with a networking luncheon. \nCompartirTwittearCompartir0 Compartir
URL:https://test.iisd.org/itn/es/event/14th-annual-ita-asil-conference/
LOCATION:When international rules interact: International investment law and the law of armed conflict
END:VEVENT
END:VCALENDAR