BEGIN:VCALENDAR
VERSION:2.0
PRODID:-//Investment Treaty News - ECPv5.4.0.2//NONSGML v1.0//EN
CALSCALE:GREGORIAN
METHOD:PUBLISH
X-WR-CALNAME:Investment Treaty News
X-ORIGINAL-URL:https://test.iisd.org/itn/es
X-WR-CALDESC:Eventos para Investment Treaty News
BEGIN:VTIMEZONE
TZID:America/Winnipeg
BEGIN:DAYLIGHT
TZOFFSETFROM:-0600
TZOFFSETTO:-0500
TZNAME:CDT
DTSTART:20170312T080000
END:DAYLIGHT
BEGIN:STANDARD
TZOFFSETFROM:-0500
TZOFFSETTO:-0600
TZNAME:CST
DTSTART:20171105T070000
END:STANDARD
END:VTIMEZONE
BEGIN:VEVENT
DTSTART;VALUE=DATE:20171127
DTEND;VALUE=DATE:20171202
DTSTAMP:20210316T051709
CREATED:20170926T213151Z
LAST-MODIFIED:20180108T191724Z
UID:4704-1511740800-1512172799@test.iisd.org
SUMMARY:34ta SESION DEL GRUPO DE TRABAJO III DE LA CNUDMI
DESCRIPTION:34ta SESION DEL GRUPO DE TRABAJO III DE LA CNUDMI\, “Reforma de la Solución de Controversias entre Inversionista y Estado”\, Comisión de las Naciones Unidas sobre Derecho de Comercio Internacional\, Viena\, Austria\, http://www.uncitral.org/uncitral/es/ commission/working_groups/3Investor_State.html \n\n\n\nCompartirTwittearCompartir0 Compartir
URL:https://test.iisd.org/itn/es/event/34th-session-of-uncitral-working-group-iii/
LOCATION:United Nations Commission on International Trade Law\, Vienna\, Austria
END:VEVENT
END:VCALENDAR