BEGIN:VCALENDAR
VERSION:2.0
PRODID:-//Investment Treaty News - ECPv5.4.0.2//NONSGML v1.0//EN
CALSCALE:GREGORIAN
METHOD:PUBLISH
X-WR-CALNAME:Investment Treaty News
X-ORIGINAL-URL:https://test.iisd.org/itn/es
X-WR-CALDESC:Eventos para Investment Treaty News
BEGIN:VTIMEZONE
TZID:America/Winnipeg
BEGIN:DAYLIGHT
TZOFFSETFROM:-0600
TZOFFSETTO:-0500
TZNAME:CDT
DTSTART:20180311T080000
END:DAYLIGHT
BEGIN:STANDARD
TZOFFSETFROM:-0500
TZOFFSETTO:-0600
TZNAME:CST
DTSTART:20181104T070000
END:STANDARD
END:VTIMEZONE
BEGIN:VEVENT
DTSTART;VALUE=DATE:20180423
DTEND;VALUE=DATE:20180428
DTSTAMP:20210316T051310
CREATED:20180108T191724Z
LAST-MODIFIED:20181221T164830Z
UID:4981-1524441600-1524873599@test.iisd.org
SUMMARY:35ta Sesión del Grupo de Trabajo III de la Comisión de las Naciones Unidas para el Derecho Mercantil Internacional (CNUDMI): Posible Reforma de la Solución de Controversias entre Inversionista y Estado (ISDS)
DESCRIPTION:35ta SESIÓN DEL GRUPO DE TRABAJO III DE LA COMISIÓN DE LAS NACIONES UNIDAS PARA EL DERECHO MERCANTIL INTERNACIONAL (CNUDMI): POSIBLE REFORMA DE LA SOLUCIÓN DE CONTROVERSIAS ENTRE INVERSIONISTA Y ESTADO (ISDS). Nueva York\, Estados Unidos\, http://www.uncitral.org/uncitral/es/commission/working_groups/3Investor_State.html \nCompartirTwittearCompartir0 Compartir
URL:https://test.iisd.org/itn/es/event/35th-session-of-working-group-iii-of-the-united-nations-commission-on-international-trade-law-uncitral-possible-reform-of-investor-state-dispute-settlement-isds/
LOCATION:New York\, New York\, United States
END:VEVENT
END:VCALENDAR