BEGIN:VCALENDAR
VERSION:2.0
PRODID:-//Investment Treaty News - ECPv5.4.0.2//NONSGML v1.0//EN
CALSCALE:GREGORIAN
METHOD:PUBLISH
X-WR-CALNAME:Investment Treaty News
X-ORIGINAL-URL:https://test.iisd.org/itn/es
X-WR-CALDESC:Eventos para Investment Treaty News
BEGIN:VTIMEZONE
TZID:America/Winnipeg
BEGIN:DAYLIGHT
TZOFFSETFROM:-0600
TZOFFSETTO:-0500
TZNAME:CDT
DTSTART:20180311T080000
END:DAYLIGHT
BEGIN:STANDARD
TZOFFSETFROM:-0500
TZOFFSETTO:-0600
TZNAME:CST
DTSTART:20181104T070000
END:STANDARD
END:VTIMEZONE
BEGIN:VEVENT
DTSTART;VALUE=DATE:20180312
DTEND;VALUE=DATE:20180313
DTSTAMP:20210316T051409
CREATED:20180108T191724Z
LAST-MODIFIED:20181221T164830Z
UID:4977-1520812800-1520899199@test.iisd.org
SUMMARY:Conferencia International: Costos del Arbitraje de Inversión: Temas y Trampas
DESCRIPTION:CONFERENCIA INTERNACIONAL: COSTOS DEL ARBITRAJE DE INVERSIÓN: TEMAS Y TRAMPAS\, McDermott Will & Emery\, Arbitration Institute of the SCC & Goethe University Frankfurt am Main\, en la Universidad Goethe\, Frankfurt\, Alemania\, http://www.sccinstitute.com/media/228441/frankfurt-seminar-12-march.pdf \nCompartirTwittearCompartir0 Compartir
URL:https://test.iisd.org/itn/es/event/international-conference-costs-in-investment-arbitration-issues-and-pitfalls/
LOCATION:Goethe University\, Frankfurt\, Germany
END:VEVENT
END:VCALENDAR