BEGIN:VCALENDAR
VERSION:2.0
PRODID:-//Investment Treaty News - ECPv5.4.0.2//NONSGML v1.0//EN
CALSCALE:GREGORIAN
METHOD:PUBLISH
X-WR-CALNAME:Investment Treaty News
X-ORIGINAL-URL:https://test.iisd.org/itn/es
X-WR-CALDESC:Eventos para Investment Treaty News
BEGIN:VTIMEZONE
TZID:America/Winnipeg
BEGIN:DAYLIGHT
TZOFFSETFROM:-0600
TZOFFSETTO:-0500
TZNAME:CDT
DTSTART:20180311T080000
END:DAYLIGHT
BEGIN:STANDARD
TZOFFSETFROM:-0500
TZOFFSETTO:-0600
TZNAME:CST
DTSTART:20181104T070000
END:STANDARD
END:VTIMEZONE
BEGIN:VEVENT
DTSTART;TZID=America/Winnipeg:20181024T130000
DTEND;TZID=America/Winnipeg:20181024T143000
DTSTAMP:20210316T050418
CREATED:20181221T164803Z
LAST-MODIFIED:20181221T164803Z
UID:5677-1540386000-1540391400@test.iisd.org
SUMMARY:INVERSIÓN PARA EL DESARROLLO SOSTENIBLE: INCORPORANDO LAS OBLIGACIONES DE LOS INVERSORES A LOS ACUERDOS DE COMERCIO E INVERSIÓN
DESCRIPTION:INVERSIÓN PARA EL DESARROLLO SOSTENIBLE: INCORPORANDO LAS OBLIGACIONES DE LOS INVERSORES A LOS ACUERDOS DE COMERCIO E INVERSIÓN\, evento paralelo al Foro Mundial sobre las Inversiones 2018 organizado por el IISD\, Comisión Internacional de Juristas (ICJ) y Friedrich Ebert Stiftung (FES)\, en Palais des Nations\, Ginebra\, Suiza\, https://iisd.org/event/investment-sustainable-development-incorporating-investor-obligations-trade-and-investment \nCompartirTwittearCompartir0 Compartir
URL:https://test.iisd.org/itn/es/event/investment-for-sustainable-development-incorporating-investor-obligations-in-trade-and-investment-agreements/
LOCATION:Palais des Nations\, 1211 Geneva\, Geneva\, Switzerland
END:VEVENT
END:VCALENDAR