BEGIN:VCALENDAR
VERSION:2.0
PRODID:-//Investment Treaty News - ECPv5.4.0.2//NONSGML v1.0//EN
CALSCALE:GREGORIAN
METHOD:PUBLISH
X-WR-CALNAME:Investment Treaty News
X-ORIGINAL-URL:https://test.iisd.org/itn/es
X-WR-CALDESC:Eventos para Investment Treaty News
BEGIN:VTIMEZONE
TZID:America/Winnipeg
BEGIN:DAYLIGHT
TZOFFSETFROM:-0600
TZOFFSETTO:-0500
TZNAME:CDT
DTSTART:20180311T080000
END:DAYLIGHT
BEGIN:STANDARD
TZOFFSETFROM:-0500
TZOFFSETTO:-0600
TZNAME:CST
DTSTART:20181104T070000
END:STANDARD
END:VTIMEZONE
BEGIN:VEVENT
DTSTART;VALUE=DATE:20181106
DTEND;VALUE=DATE:20181108
DTSTAMP:20210316T050025
CREATED:20181221T164802Z
LAST-MODIFIED:20181221T164802Z
UID:5695-1541462400-1541635199@test.iisd.org
SUMMARY:NUEVAS FRONTERAS EN LA SOLUCIÓN ALTERNATIVA DE CONTROVERSIAS (ADR): DE ASUNTOS COMERCIALES Y DE INVERSIÓN A VIOLACIONES REGULATORIAS
DESCRIPTION:NUEVAS FRONTERAS EN LA SOLUCIÓN ALTERNATIVA DE CONTROVERSIAS (ADR): DE ASUNTOS COMERCIALES Y DE INVERSIÓN A VIOLACIONES REGULATORIAS\, Comité de Mediación de International Bar Association (IBA)\, IBA North America Forum\, Universidad McGill\, Universidad de Montreal & la Cámara Inernacional de Comercio (ICC)\, en el Club de la Facultad y el Centro de Conferencias de la Universidad McGill\, Montreal\, Canadá\, https://www.ibanet.org/Conferences/conf904.aspx \nCompartirTwittearCompartir0 Compartir
URL:https://test.iisd.org/itn/es/event/new-frontiers-of-alternative-dispute-resolution-adr-from-commercial-and-investment-matters-to-regulatory-violations/
END:VEVENT
END:VCALENDAR