BEGIN:VCALENDAR
VERSION:2.0
PRODID:-//Investment Treaty News - ECPv5.4.0.2//NONSGML v1.0//EN
CALSCALE:GREGORIAN
METHOD:PUBLISH
X-WR-CALNAME:Investment Treaty News
X-ORIGINAL-URL:https://test.iisd.org/itn/es
X-WR-CALDESC:Eventos para Investment Treaty News
BEGIN:VTIMEZONE
TZID:America/Winnipeg
BEGIN:DAYLIGHT
TZOFFSETFROM:-0600
TZOFFSETTO:-0500
TZNAME:CDT
DTSTART:20190310T080000
END:DAYLIGHT
BEGIN:STANDARD
TZOFFSETFROM:-0500
TZOFFSETTO:-0600
TZNAME:CST
DTSTART:20191103T070000
END:STANDARD
END:VTIMEZONE
BEGIN:VEVENT
DTSTART;TZID=America/Winnipeg:20190308T080000
DTEND;TZID=America/Winnipeg:20190309T170000
DTSTAMP:20210316T045738
CREATED:20181221T164801Z
LAST-MODIFIED:20181221T164801Z
UID:5892-1552032000-1552150800@test.iisd.org
SUMMARY:FORO DE INVESTIGACIÓN SOBRE LOS AVANCES DE ADR COMPARATIVO & TRANSNACIONAL: INVESTIGACIÓN EN PRÁCTICA
DESCRIPTION:FORO DE INVESTIGACIÓN SOBRE LOS AVANCES DE ADR COMPARATIVO & TRANSNACIONAL: INVESTIGACIÓN EN PRÁCTICA\, Facultad de Derecho de la Universidad de Hong Kong\, en Hong Kong\, China\, https://adrinasia.wordpress.com/2018/11/15/call-for-papers-advances-in-comparative-transnational-adr-research-into-practice \nCompartirTwittearCompartir0 Compartir
URL:https://test.iisd.org/itn/es/event/research-forum-on-advances-in-comparative-transnational-adr-research-into-practice/
LOCATION:Faculty of Law\, The University of Hong Kong\, Hong Kong\, Pok Fu Lam\, Pok Fu Lam Rd\, 10/F\, Cheng Yu Tung Tower\, Centennial Campus\, Pokfulam Road\, Hong Kong\, Hong Kong\, China
END:VEVENT
END:VCALENDAR