BEGIN:VCALENDAR
VERSION:2.0
PRODID:-//Investment Treaty News - ECPv5.4.0.2//NONSGML v1.0//EN
CALSCALE:GREGORIAN
METHOD:PUBLISH
X-WR-CALNAME:Investment Treaty News
X-ORIGINAL-URL:https://test.iisd.org/itn/es
X-WR-CALDESC:Eventos para Investment Treaty News
BEGIN:VTIMEZONE
TZID:America/Winnipeg
BEGIN:DAYLIGHT
TZOFFSETFROM:-0600
TZOFFSETTO:-0500
TZNAME:CDT
DTSTART:20190310T080000
END:DAYLIGHT
BEGIN:STANDARD
TZOFFSETFROM:-0500
TZOFFSETTO:-0600
TZNAME:CST
DTSTART:20191103T070000
END:STANDARD
END:VTIMEZONE
BEGIN:VEVENT
DTSTART;VALUE=DATE:20190516
DTEND;VALUE=DATE:20190517
DTSTAMP:20210316T045547
CREATED:20190627T152841Z
LAST-MODIFIED:20190627T152841Z
UID:6211-1557964800-1558051199@test.iisd.org
SUMMARY:SEMINARIO “UNA SOCIEDAD CON BAJA EMISIÓN DE CARBONO A TRAVÉS DEL DERECHO INTERNACIONAL”
DESCRIPTION:SEMINARIO “UNA SOCIEDAD CON BAJA EMISIÓN DE CARBONO A TRAVÉS DEL DERECHO INTERNACIONAL”\, Instituto de Arbitraje de la CCE & Haga Initiative\, en la CCE\, en Estocolmo\, Suecia\, https://sccinstitute.com/about-the-scc/event-calendar/save-the-date-a-low-carbon-society-through-international-law \nCompartirTwittearCompartir0 Compartir
URL:https://test.iisd.org/itn/es/event/seminar-a-low-carbon-society-through-international-law/
LOCATION:Arbitration Institute of the SCC & Haga Initiative\, Brunnsgatan 2\, 111 38\, Stockholm\, Sweden
END:VEVENT
END:VCALENDAR