BEGIN:VCALENDAR
VERSION:2.0
PRODID:-//Investment Treaty News - ECPv5.4.0.2//NONSGML v1.0//EN
CALSCALE:GREGORIAN
METHOD:PUBLISH
X-WR-CALNAME:Investment Treaty News
X-ORIGINAL-URL:https://test.iisd.org/itn/es
X-WR-CALDESC:Eventos para Investment Treaty News
BEGIN:VTIMEZONE
TZID:America/Winnipeg
BEGIN:DAYLIGHT
TZOFFSETFROM:-0600
TZOFFSETTO:-0500
TZNAME:CDT
DTSTART:20200308T080000
END:DAYLIGHT
BEGIN:STANDARD
TZOFFSETFROM:-0500
TZOFFSETTO:-0600
TZNAME:CST
DTSTART:20201101T070000
END:STANDARD
END:VTIMEZONE
BEGIN:VEVENT
DTSTART;VALUE=DATE:20200222
DTEND;VALUE=DATE:20200229
DTSTAMP:20210316T044318
CREATED:20191216T222753Z
LAST-MODIFIED:20191216T222753Z
UID:7564-1582329600-1582934399@test.iisd.org
SUMMARY:ACADEMIA DE ARBITRAJE INTERNACIONAL DE SINGAPUR
DESCRIPTION:ACADEMIA DE ARBITRAJE INTERNACIONAL DE SINGAPUR\, Centre for International Law\, Universidad Nacional de Singapur\, en Singapur\, https://cil.nus.edu.sg/event/singapore-international-arbitration-academy-2020-siaa-2020 \nCompartirTwittearCompartir0 Compartir
URL:https://test.iisd.org/itn/es/event/singapore-international-arbitration-academy/
LOCATION:National University of Singapore\, Sinapore\, Singapore
END:VEVENT
END:VCALENDAR