BEGIN:VCALENDAR
VERSION:2.0
PRODID:-//Investment Treaty News - ECPv5.4.0.2//NONSGML v1.0//EN
CALSCALE:GREGORIAN
METHOD:PUBLISH
X-WR-CALNAME:Investment Treaty News
X-ORIGINAL-URL:https://test.iisd.org/itn/es
X-WR-CALDESC:Eventos para Investment Treaty News
BEGIN:VTIMEZONE
TZID:America/Winnipeg
BEGIN:DAYLIGHT
TZOFFSETFROM:-0600
TZOFFSETTO:-0500
TZNAME:CDT
DTSTART:20170312T080000
END:DAYLIGHT
BEGIN:STANDARD
TZOFFSETFROM:-0500
TZOFFSETTO:-0600
TZNAME:CST
DTSTART:20171105T070000
END:STANDARD
END:VTIMEZONE
BEGIN:VEVENT
DTSTART;VALUE=DATE:20170622
DTEND;VALUE=DATE:20170623
DTSTAMP:20210316T052415
CREATED:20170616T135701Z
LAST-MODIFIED:20170626T163559Z
UID:4193-1498089600-1498175999@test.iisd.org
SUMMARY:Serie de Controversias de Inversión UNIGE-IISD
DESCRIPTION:Universidad de Ginebra (UNIGE) & Instituto Internacional para el Desarrollo Sostenible (IISD)\, en UNIGE\, Ginebra\, Suiza\, http://www.iisd.org/project/unige-iisd-lunch-series-investment-disputes \nCompartirTwittearCompartir0 Compartir
URL:https://test.iisd.org/itn/es/event/trade-investment-law-and-public-health-the-philip-morris-saga/
LOCATION:University of Geneva (UNIGE)\, Boulevard du Pont-d'Arve 40\, 1205 Genève\, Switzerland\, Geneva\, Switzerland
END:VEVENT
END:VCALENDAR