BEGIN:VCALENDAR
VERSION:2.0
PRODID:-//Investment Treaty News - ECPv5.4.0.2//NONSGML v1.0//EN
CALSCALE:GREGORIAN
METHOD:PUBLISH
X-WR-CALNAME:Investment Treaty News
X-ORIGINAL-URL:https://test.iisd.org/itn/es
X-WR-CALDESC:Eventos para Investment Treaty News
BEGIN:VTIMEZONE
TZID:America/Winnipeg
BEGIN:DAYLIGHT
TZOFFSETFROM:-0600
TZOFFSETTO:-0500
TZNAME:CDT
DTSTART:20170312T080000
END:DAYLIGHT
BEGIN:STANDARD
TZOFFSETFROM:-0500
TZOFFSETTO:-0600
TZNAME:CST
DTSTART:20171105T070000
END:STANDARD
END:VTIMEZONE
BEGIN:VEVENT
DTSTART;VALUE=DATE:20170612
DTEND;VALUE=DATE:20170615
DTSTAMP:20210316T070124
CREATED:20170616T135702Z
LAST-MODIFIED:20170626T163311Z
UID:4182-1497225600-1497484799@test.iisd.org
SUMMARY:Capacitación para Mediadores de Controversias entre Inversionista y Estado
DESCRIPTION:Centre for Effective Dispute Resolution (CEDR)\, International Centre for Settlement of Investment Disputes (ICSID)\, International Mediation Institute (IMI) & International Energy Charter (IEC)\, en el CIADI\, Washington\, D.C.\, Estados Unidos\, https://icsid.worldbank.org/en/Pages/News.aspx?CID=216
URL:https://test.iisd.org/itn/es/event/training-for-mediators-in-investor-state-disputes/
LOCATION:International Centre for Settlement of Investment Disputes (ICSID)\, 1818 H Street\, N.W. MSN J2-200\,  Washington\, D.C\, 20433\, United States
END:VEVENT
END:VCALENDAR