BEGIN:VCALENDAR
VERSION:2.0
PRODID:-//Investment Treaty News - ECPv5.4.0.2//NONSGML v1.0//EN
CALSCALE:GREGORIAN
METHOD:PUBLISH
X-WR-CALNAME:Investment Treaty News
X-ORIGINAL-URL:https://test.iisd.org/itn/es
X-WR-CALDESC:Eventos para Investment Treaty News
BEGIN:VTIMEZONE
TZID:America/Winnipeg
BEGIN:DAYLIGHT
TZOFFSETFROM:-0600
TZOFFSETTO:-0500
TZNAME:CDT
DTSTART:20170312T080000
END:DAYLIGHT
BEGIN:STANDARD
TZOFFSETFROM:-0500
TZOFFSETTO:-0600
TZNAME:CST
DTSTART:20171105T070000
END:STANDARD
END:VTIMEZONE
BEGIN:VEVENT
DTSTART;VALUE=DATE:20170724
DTEND;VALUE=DATE:20170812
DTSTAMP:20210316T065717
CREATED:20170616T135700Z
LAST-MODIFIED:20170626T164211Z
UID:4211-1500854400-1502495999@test.iisd.org
SUMMARY:Regional Course on Key Issues on the International Economic Agenda
DESCRIPTION:37th Course (Latin American and Caribbean Economies)\nThe course will focus on the links between trade\, investment\, finance and development\, including in the context of international trade negotiations. \nIts aim is as follows: \n\nEnhance understanding of the relationship between these areas and their links to country development strategies.\nProvide participants with the knowledge and skills necessary for the design and implementation of trade and development policies\, as well as for trade negotiations\, corresponding to the needs and interests of their countries.\n\nThe course syllabus will draw on the perspective of UNCTAD\, its analytical work and lessons learned from its technical cooperation activities and will be enriched by the competence and expertise of representatives of the Economic Commission for Latin America and the Caribbean\, and of national experts in these areas of work. \nThe course is aimed primarily at mid-level government officials in ministries and institutions who are involved in the formulation and implementation of national trade and development policies\, and who deal with issues relating to trade\, investment and finance\, and development. As appropriate\, and depending on the availability of space\, other applicants\, such as university academics\, may be considered.
URL:https://test.iisd.org/itn/es/event/regional-course-on-key-issues-on-the-international-economic-agenda/
LOCATION:EAFIT University\, Medellín
END:VEVENT
END:VCALENDAR