BEGIN:VCALENDAR
VERSION:2.0
PRODID:-//Investment Treaty News - ECPv5.4.0.2//NONSGML v1.0//EN
CALSCALE:GREGORIAN
METHOD:PUBLISH
X-WR-CALNAME:Investment Treaty News
X-ORIGINAL-URL:https://test.iisd.org/itn/es
X-WR-CALDESC:Eventos para Investment Treaty News
BEGIN:VTIMEZONE
TZID:America/Winnipeg
BEGIN:DAYLIGHT
TZOFFSETFROM:-0600
TZOFFSETTO:-0500
TZNAME:CDT
DTSTART:20170312T080000
END:DAYLIGHT
BEGIN:STANDARD
TZOFFSETFROM:-0500
TZOFFSETTO:-0600
TZNAME:CST
DTSTART:20171105T070000
END:STANDARD
END:VTIMEZONE
BEGIN:VEVENT
DTSTART;VALUE=DATE:20171005
DTEND;VALUE=DATE:20171007
DTSTAMP:20210316T064553
CREATED:20170926T213152Z
LAST-MODIFIED:20180108T191725Z
UID:4673-1507161600-1507334399@test.iisd.org
SUMMARY:COLOQUIO “Derecho Internacional de las Inversiones & el Derecho sobre Con ictos Armados”
DESCRIPTION:COLOQUIO\, “Derecho Internacional de las Inversiones & el Derecho sobre Con ictos Armados”\, Athens Public International Law Center (AthensPIL) de la Facultad de Derecho de la Universidad Nacional y Kapodistria de Atenas; Centro Nacional de Investigación Científica (CNRS); CREDIMI de la Universidad de Borgoña; Facultad de Derecho de la Universidad de Zaragoza; en Atenas\, Grecia\, https://www.eventbrite.com/e/ colloquium-on-international-investment-law-the-law-of-armed-con ict- registration-36507239135
URL:https://test.iisd.org/itn/es/event/colloquium-international-investment-law-the-law-of-armed-conflict/
LOCATION:Athens Public International Law Center (AthensPIL) of the National and Kapodistrian University of Athens Faculty of Law\, Athens\, Greece
END:VEVENT
END:VCALENDAR