BEGIN:VCALENDAR
VERSION:2.0
PRODID:-//Investment Treaty News - ECPv5.4.0.2//NONSGML v1.0//EN
CALSCALE:GREGORIAN
METHOD:PUBLISH
X-WR-CALNAME:Investment Treaty News
X-ORIGINAL-URL:https://test.iisd.org/itn/es
X-WR-CALDESC:Eventos para Investment Treaty News
BEGIN:VTIMEZONE
TZID:America/Winnipeg
BEGIN:DAYLIGHT
TZOFFSETFROM:-0600
TZOFFSETTO:-0500
TZNAME:CDT
DTSTART:20170312T080000
END:DAYLIGHT
BEGIN:STANDARD
TZOFFSETFROM:-0500
TZOFFSETTO:-0600
TZNAME:CST
DTSTART:20171105T070000
END:STANDARD
END:VTIMEZONE
BEGIN:VEVENT
DTSTART;VALUE=DATE:20171009
DTEND;VALUE=DATE:20171012
DTSTAMP:20210316T064525
CREATED:20170926T213152Z
LAST-MODIFIED:20180108T191725Z
UID:4678-1507507200-1507766399@test.iisd.org
SUMMARY:CONFERENCIA ANUAL DE ALTO NIVEL DE LA UNCTAD
DESCRIPTION:CONFERENCIA ANUAL DE ALTO NIVEL DE LA UNCTAD\, “Fase 2 de la Reforma de AII”\, Ginebra\, Suiza\, http://investmentpolicyhub.unctad.org/ Pages/unctad-annual-high-level-iia-conference-phase-2-of-iia-reform
URL:https://test.iisd.org/itn/es/event/unctad-annual-high-level-iia-conference/
LOCATION:University of Geneva\, 40 Bd. du Pont d'Arve\, Geneva\, Switzerland
END:VEVENT
END:VCALENDAR