BEGIN:VCALENDAR
VERSION:2.0
PRODID:-//Investment Treaty News - ECPv5.4.0.2//NONSGML v1.0//EN
CALSCALE:GREGORIAN
METHOD:PUBLISH
X-WR-CALNAME:Investment Treaty News
X-ORIGINAL-URL:https://test.iisd.org/itn/es
X-WR-CALDESC:Eventos para Investment Treaty News
BEGIN:VTIMEZONE
TZID:America/Winnipeg
BEGIN:DAYLIGHT
TZOFFSETFROM:-0600
TZOFFSETTO:-0500
TZNAME:CDT
DTSTART:20170312T080000
END:DAYLIGHT
BEGIN:STANDARD
TZOFFSETFROM:-0500
TZOFFSETTO:-0600
TZNAME:CST
DTSTART:20171105T070000
END:STANDARD
END:VTIMEZONE
BEGIN:VEVENT
DTSTART;VALUE=DATE:20171016
DTEND;VALUE=DATE:20171021
DTSTAMP:20210316T064251
CREATED:20170926T213151Z
LAST-MODIFIED:20180108T191725Z
UID:4717-1508112000-1508543999@test.iisd.org
SUMMARY:Reunión General Anual 2017
DESCRIPTION:REUNIÓN GENERAL ANUAL 2017\, “Gestión Minera Artesanal y de. Pequeña Escala»\, Foro Intergubernamental sobre Minería\, Minerales\, Metales y Desarrollo Sostenible\, Ginebra\, Suiza\, http://igfmining.org/agm-2017
URL:https://test.iisd.org/itn/es/event/annual-general-meeting-2017/
LOCATION:IGF\, Geneva\, Switzerland
END:VEVENT
END:VCALENDAR