BEGIN:VCALENDAR
VERSION:2.0
PRODID:-//Investment Treaty News - ECPv5.4.0.2//NONSGML v1.0//EN
CALSCALE:GREGORIAN
METHOD:PUBLISH
X-WR-CALNAME:Investment Treaty News
X-ORIGINAL-URL:https://test.iisd.org/itn/es
X-WR-CALDESC:Eventos para Investment Treaty News
BEGIN:VTIMEZONE
TZID:America/Winnipeg
BEGIN:DAYLIGHT
TZOFFSETFROM:-0600
TZOFFSETTO:-0500
TZNAME:CDT
DTSTART:20170312T080000
END:DAYLIGHT
BEGIN:STANDARD
TZOFFSETFROM:-0500
TZOFFSETTO:-0600
TZNAME:CST
DTSTART:20171105T070000
END:STANDARD
END:VTIMEZONE
BEGIN:VEVENT
DTSTART;VALUE=DATE:20171023
DTEND;VALUE=DATE:20171028
DTSTAMP:20210316T064156
CREATED:20170926T213152Z
LAST-MODIFIED:20180108T191725Z
UID:4688-1508716800-1509148799@test.iisd.org
SUMMARY:3ra SESIÓN DEL GRUPO DE TRABAJO INTERGUBERNAMENTAL DE COMPOSICIÓN ABIERTA SOBRE LAS EMPRESAS TRANSNACIONALES Y OTRAS EMPRESAS CON RESPECTO A LOS DERECHOS HUMANOS
DESCRIPTION:3ra SESIÓN DEL GRUPO DE TRABAJO INTERGUBERNAMENTAL DE COMPOSICIÓN ABIERTA SOBRE LAS EMPRESAS TRANSNACIONALES Y OTRAS EMPRESAS CON RESPECTO A LOS DERECHOS HUMANOS\, Consejo de Derechos Humanos de la ONU\, Ginebra\, Suiza\, http://www.ohchr.org/EN/HRBodies/HRC/WGTransCorp/ Session3/Pages/Session3.aspx
URL:https://test.iisd.org/itn/es/event/3rd-session-of-the-open-ended-intergovernmental-working-group-on-transnational-corporations-and-other-business-enterprises-with-respect-to-human-rights/
LOCATION:UN Human Rights Council\, Geneva\, Switzerland
END:VEVENT
END:VCALENDAR