BEGIN:VCALENDAR
VERSION:2.0
PRODID:-//Investment Treaty News - ECPv5.4.0.2//NONSGML v1.0//EN
CALSCALE:GREGORIAN
METHOD:PUBLISH
X-WR-CALNAME:Investment Treaty News
X-ORIGINAL-URL:https://test.iisd.org/itn/es
X-WR-CALDESC:Eventos para Investment Treaty News
BEGIN:VTIMEZONE
TZID:America/Winnipeg
BEGIN:DAYLIGHT
TZOFFSETFROM:-0600
TZOFFSETTO:-0500
TZNAME:CDT
DTSTART:20180311T080000
END:DAYLIGHT
BEGIN:STANDARD
TZOFFSETFROM:-0500
TZOFFSETTO:-0600
TZNAME:CST
DTSTART:20181104T070000
END:STANDARD
END:VTIMEZONE
BEGIN:VEVENT
DTSTART;VALUE=DATE:20180507
DTEND;VALUE=DATE:20180511
DTSTAMP:20210316T051607
CREATED:20180426T145329Z
LAST-MODIFIED:20181221T164829Z
UID:5134-1525651200-1525996799@test.iisd.org
SUMMARY:CAPACITACIÓN DE MEDIADORES ENTRE INVERSIONISTAS Y ESTADOS
DESCRIPTION:CAPACITACIÓN DE MEDIADORES ENTRE INVERSIONISTAS Y ESTADOS\, organizado por el Centro Internacional de Arreglo de Diferencias relativas a Inversiones (CIADI)\, en el Centro de Conferencias del Banco Mundial\, en París\, Francia\, https://icsid.worldbank.org/en/Pages/Events.aspx?CID=172
URL:https://test.iisd.org/itn/es/event/investor-state-mediator-training/
END:VEVENT
END:VCALENDAR