BEGIN:VCALENDAR
VERSION:2.0
PRODID:-//Investment Treaty News - ECPv5.4.0.2//NONSGML v1.0//EN
CALSCALE:GREGORIAN
METHOD:PUBLISH
X-WR-CALNAME:Investment Treaty News
X-ORIGINAL-URL:https://test.iisd.org/itn/es
X-WR-CALDESC:Eventos para Investment Treaty News
BEGIN:VTIMEZONE
TZID:America/Winnipeg
BEGIN:DAYLIGHT
TZOFFSETFROM:-0600
TZOFFSETTO:-0500
TZNAME:CDT
DTSTART:20180311T080000
END:DAYLIGHT
BEGIN:STANDARD
TZOFFSETFROM:-0500
TZOFFSETTO:-0600
TZNAME:CST
DTSTART:20181104T070000
END:STANDARD
END:VTIMEZONE
BEGIN:VEVENT
DTSTART;VALUE=DATE:20180510
DTEND;VALUE=DATE:20180512
DTSTAMP:20210316T051126
CREATED:20180426T145327Z
LAST-MODIFIED:20181221T164829Z
UID:5147-1525910400-1526083199@test.iisd.org
SUMMARY:CONFERENCIA DE 2018 SOBRE ARBITRAJE DE INVERSIÓN & TRANSACCIONES TRANS-PACÍFICAS
DESCRIPTION:CONFERENCIA DE 2018 SOBRE ARBITRAJE DE INVERSIÓN & TRANSACCIONES TRANS-PACÍFICAS\, organizado por la Sección de Derecho Internacional de American Bar Association (ABA)\, en Maxwell Chambers\, Singapur\, https://shop.americanbar.org/PersonifyImages/ProductFiles/296454598/Preliminary%20Brochure%20Singapore.pdf
URL:https://test.iisd.org/itn/es/event/2018-investment-arbitration-trans-pacific-transactions-conference/
END:VEVENT
BEGIN:VEVENT
DTSTART;VALUE=DATE:20180510
DTEND;VALUE=DATE:20180512
DTSTAMP:20210316T051126
CREATED:20180426T145329Z
LAST-MODIFIED:20181221T164829Z
UID:5150-1525910400-1526083199@test.iisd.org
SUMMARY:CONFERENCIA: DERECHO INTERNACIONAL DE LAS INVERSIONES Y LA PREVENCIÓN DE ENFERMEDADES NO TRANSMISIBLES
DESCRIPTION:CONFERENCIA: DERECHO INTERNACIONAL DE LAS INVERSIONES Y LA PREVENCIÓN DE ENFERMEDADES NO TRANSMISIBLES\, organizado por Law & NCD Unit\, Facultad de Derecho y Justicia Social\, Universidad de Liverpool\, en el campus de la Universidad de Liverpool London\, en Londres\, Reino Unido\, https://www.liverpool.ac.uk/law-and-social-justice/events/international-investment-law-and-ncd-prevention
URL:https://test.iisd.org/itn/es/event/conference-international-investment-law-and-non-communicable-diseases-prevention/
LOCATION:Law & NCD Unit\, School of Law and Social Justice\, University of Liverpool\, University of Liverpool London Campus\, 33 Finsbury Square\, London\, United Kingdom
END:VEVENT
BEGIN:VEVENT
DTSTART;VALUE=DATE:20180511
DTEND;VALUE=DATE:20180512
DTSTAMP:20210316T051126
CREATED:20180426T145328Z
LAST-MODIFIED:20181221T164829Z
UID:5145-1525996800-1526083199@test.iisd.org
SUMMARY:CONFERENCIA: TEMAS CLAVE DEL ARBITRAJE INTERNACIONAL: DEFENSA\, CALCULO DE DAÑOS\, SOLUCIÓN Y CIBERSEGURIDAD
DESCRIPTION:CONFERENCIA: TEMAS CLAVE DEL ARBITRAJE INTERNACIONAL: DEFENSA\, CALCULO DE DAÑOS\, SOLUCIÓN Y CIBERSEGURIDAD\, organizado por el Centro Internacional de Arreglo de Diferencias relativas a Inversiones (CIADI)\, Instituto de Arbitraje de la Cámara de Comercio de Estocolmo (CCE)\, Secretaría de la Carta de la Energía (SCE) y la Corte Permanente de Arbitraje (CPA)\, en el Centro de Conferencias del Banco Mundial\, en París\, Francia\, https://icsid.worldbank.org/en/Pages/Events.aspx?CID=165
URL:https://test.iisd.org/itn/es/event/conference-key-issues-in-international-arbitration-advocacy-damage-calculation-settlement-and-cybersecurity/
END:VEVENT
BEGIN:VEVENT
DTSTART;TZID=America/Winnipeg:20180511T090000
DTEND;TZID=America/Winnipeg:20180511T170000
DTSTAMP:20210316T051127
CREATED:20180426T145327Z
LAST-MODIFIED:20181221T164829Z
UID:5137-1526029200-1526058000@test.iisd.org
SUMMARY:TRIGÉSIMA CONFERENCIA PÚBLICA DE ITF: CUMPLIMIENTO EN EL DERECHO INTERNACIONAL DE LAS INVERSIONES
DESCRIPTION:TRIGÉSIMA CONFERENCIA PÚBLICA DE ITF: CUMPLIMIENTO EN EL DERECHO INTERNACIONAL DE LAS INVERSIONES\, organizado por Investment Treaty Forum (ITF)\, en British Academy\, en Londres\, Reino Unido\, https://www.biicl.org/event/1299
URL:https://test.iisd.org/itn/es/event/trigesima-conferencia-publica-de-itf-cumplimiento-en-el-derecho-internacional-de-las-inversiones/
END:VEVENT
END:VCALENDAR