BEGIN:VCALENDAR
VERSION:2.0
PRODID:-//Investment Treaty News - ECPv5.4.0.2//NONSGML v1.0//EN
CALSCALE:GREGORIAN
METHOD:PUBLISH
X-WR-CALNAME:Investment Treaty News
X-ORIGINAL-URL:https://test.iisd.org/itn/es
X-WR-CALDESC:Eventos para Investment Treaty News
BEGIN:VTIMEZONE
TZID:America/Winnipeg
BEGIN:DAYLIGHT
TZOFFSETFROM:-0600
TZOFFSETTO:-0500
TZNAME:CDT
DTSTART:20180311T080000
END:DAYLIGHT
BEGIN:STANDARD
TZOFFSETFROM:-0500
TZOFFSETTO:-0600
TZNAME:CST
DTSTART:20181104T070000
END:STANDARD
END:VTIMEZONE
BEGIN:VEVENT
DTSTART;VALUE=DATE:20180927
DTEND;VALUE=DATE:20180929
DTSTAMP:20210316T052551
CREATED:20181221T164829Z
LAST-MODIFIED:20181221T164829Z
UID:5443-1538006400-1538179199@test.iisd.org
SUMMARY:DERECHO INTERNACIONAL DE LAS INVERSIONES & COLOQUIO SOBRE EL DERECHO DE LA COMPETENCIA
DESCRIPTION:DERECHO INTERNACIONAL DE LAS INVERSIONES & COLOQUIO SOBRE EL DERECHO DE LA COMPETENCIA\, Facultad de Derecho de la Universidad de Zaragoza\, Centro de Derecho Internacional Público de Atenas de la Universidad Nacional y Kapodistriana de la Facultad de Derecho de Atenas\, Centro de Investigaciones de la Universidad de Paris II Panthéon-Assas (CERSA)\, Centro de Investigaciones de la Universidad de Burgundy (CREDIMI)\, Centro Nacional para la Investigación Científica de Francia (CNRS)\, en la Facultad de Derecho de la Universidad de Zaragoza\, Zaragoza\, España\, https://eventos.unizar.es/16674/detail.html
URL:https://test.iisd.org/itn/es/event/international-investment-law-competition-law-coloquium/
LOCATION:Conference Venue\, Calle de Pedro Cerbuna\, 12\, Zaragoza\, 50009\, Spain
END:VEVENT
BEGIN:VEVENT
DTSTART;VALUE=DATE:20180927
DTEND;VALUE=DATE:20180929
DTSTAMP:20210316T052551
CREATED:20181221T164829Z
LAST-MODIFIED:20181221T164829Z
UID:5446-1538006400-1538179199@test.iisd.org
SUMMARY:13era CONFERENCIA ANUAL SOBRE INVERSIÓN INTERNACIONAL DE COLUMBIA
DESCRIPTION:13era CONFERENCIA ANUAL SOBRE INVERSIÓN INTERNACIONAL DE COLUMBIA\, “Multinacionales en la Era del Desarrollo Sostenible: Nueva Concepción del Papel de los Acuerdos Internacionales de Inversión”\, CCSI\, en la Universidad de Columbia\, Nueva York\, Estados Unidos\, http://ccsi.columbia.edu/2018/09/27/13th-annual-columbia-international-investment-conference-multinationals-in-the-age-of-sustainable-development-new-thinking-on-the-role-of-international-investment-agreements
URL:https://test.iisd.org/itn/es/event/13th-annual-columbia-international-investment-conference/
END:VEVENT
END:VCALENDAR