BEGIN:VCALENDAR
VERSION:2.0
PRODID:-//Investment Treaty News - ECPv5.4.0.2//NONSGML v1.0//EN
CALSCALE:GREGORIAN
METHOD:PUBLISH
X-WR-CALNAME:Investment Treaty News
X-ORIGINAL-URL:https://test.iisd.org/itn/es
X-WR-CALDESC:Eventos para Investment Treaty News
BEGIN:VTIMEZONE
TZID:America/Winnipeg
BEGIN:DAYLIGHT
TZOFFSETFROM:-0600
TZOFFSETTO:-0500
TZNAME:CDT
DTSTART:20180311T080000
END:DAYLIGHT
BEGIN:STANDARD
TZOFFSETFROM:-0500
TZOFFSETTO:-0600
TZNAME:CST
DTSTART:20181104T070000
END:STANDARD
END:VTIMEZONE
BEGIN:VEVENT
DTSTART;TZID=America/Winnipeg:20181011T121000
DTEND;TZID=America/Winnipeg:20181115T130000
DTSTAMP:20210316T050414
CREATED:20181221T164804Z
LAST-MODIFIED:20181221T164804Z
UID:5671-1539259800-1542286800@test.iisd.org
SUMMARY:SERIE DE DISERTANTES DEL OTOÑO 2018 DE DERECHO INTERNACIONAL DE LAS INVERSIONES Y SOBRE POLÍTICAS
DESCRIPTION:SERIE DE DISERTANTES DEL OTOÑO 2018 DE DERECHO INTERNACIONAL DE LAS INVERSIONES Y SOBRE POLÍTICAS\, Columbia Center on Sustainable Investment (CCSI)\, en la Facultad de Derecho de Columbia\, Nueva York\, Estados Unidos\, http://ccsi.columbia.edu/2018/10/11/fall-2018-international-investment-law-and-policy-speaker-series
URL:https://test.iisd.org/itn/es/event/fall-2018-international-investment-law-and-policy-speaker-series/
END:VEVENT
BEGIN:VEVENT
DTSTART;VALUE=DATE:20181015
DTEND;VALUE=DATE:20181020
DTSTAMP:20210316T050414
CREATED:20180515T212635Z
LAST-MODIFIED:20181221T164803Z
UID:5323-1539561600-1539993599@test.iisd.org
SUMMARY:IGF Reunión General Anual 2018
DESCRIPTION:REUNIÓN GENERAL ANUAL 2018\, Foro Intergubernamental sobre Minería\, Minerales\, Metales y Desarrollo Sostenible\, Ginebra\, Suiza\, http://igfmining.org
URL:https://test.iisd.org/itn/es/event/igf-annual-general-meeting-2018/
LOCATION:Palais des Nations\, 1211 Geneva\, Geneva\, Switzerland
END:VEVENT
BEGIN:VEVENT
DTSTART;VALUE=DATE:20181015
DTEND;VALUE=DATE:20181020
DTSTAMP:20210316T050414
CREATED:20181221T164803Z
LAST-MODIFIED:20181221T164803Z
UID:5454-1539561600-1539993599@test.iisd.org
SUMMARY:REUNIÓN GENERAL ANUAL 2018
DESCRIPTION:REUNIÓN GENERAL ANUAL 2018\, Foro Intergubernamental sobre Minería\, Minerales\, Metales y Desarrollo Sostenible (IGF)\, en Palais des Nations\, Ginebra\, Suiza\, http://igfmining.org/agm-2018/
URL:https://test.iisd.org/itn/es/event/annual-general-meeting-2018/
LOCATION:Palais des Nations\, 1211 Geneva\, Geneva\, Switzerland
END:VEVENT
BEGIN:VEVENT
DTSTART;VALUE=DATE:20181015
DTEND;VALUE=DATE:20181020
DTSTAMP:20210316T050414
CREATED:20181221T164803Z
LAST-MODIFIED:20181221T164803Z
UID:5456-1539561600-1539993599@test.iisd.org
SUMMARY:COMITÉ DE SEGURIDAD ALIMENTARIA MUNDIAL CFS 45
DESCRIPTION:COMITÉ DE SEGURIDAD ALIMENTARIA MUNDIAL CFS 45\, Organización para la Agricultura y la Alimentación (FAO)\, Roma\, Italia\, http://www.fao.org/cfs/home/plenary/cfs45
URL:https://test.iisd.org/itn/es/event/committee-on-world-food-security-cfs-45/
LOCATION:FAO\, Viale delle Terme di Caracalla\, Rome\, 00153\, Italy
END:VEVENT
END:VCALENDAR