BEGIN:VCALENDAR
VERSION:2.0
PRODID:-//Investment Treaty News - ECPv5.4.0.2//NONSGML v1.0//EN
CALSCALE:GREGORIAN
METHOD:PUBLISH
X-WR-CALNAME:Investment Treaty News
X-ORIGINAL-URL:https://test.iisd.org/itn/es
X-WR-CALDESC:Eventos para Investment Treaty News
BEGIN:VTIMEZONE
TZID:America/Winnipeg
BEGIN:DAYLIGHT
TZOFFSETFROM:-0600
TZOFFSETTO:-0500
TZNAME:CDT
DTSTART:20180311T080000
END:DAYLIGHT
BEGIN:STANDARD
TZOFFSETFROM:-0500
TZOFFSETTO:-0600
TZNAME:CST
DTSTART:20181104T070000
END:STANDARD
END:VTIMEZONE
BEGIN:VEVENT
DTSTART;TZID=America/Winnipeg:20181011T121000
DTEND;TZID=America/Winnipeg:20181115T130000
DTSTAMP:20210316T050614
CREATED:20181221T164804Z
LAST-MODIFIED:20181221T164804Z
UID:5671-1539259800-1542286800@test.iisd.org
SUMMARY:SERIE DE DISERTANTES DEL OTOÑO 2018 DE DERECHO INTERNACIONAL DE LAS INVERSIONES Y SOBRE POLÍTICAS
DESCRIPTION:SERIE DE DISERTANTES DEL OTOÑO 2018 DE DERECHO INTERNACIONAL DE LAS INVERSIONES Y SOBRE POLÍTICAS\, Columbia Center on Sustainable Investment (CCSI)\, en la Facultad de Derecho de Columbia\, Nueva York\, Estados Unidos\, http://ccsi.columbia.edu/2018/10/11/fall-2018-international-investment-law-and-policy-speaker-series
URL:https://test.iisd.org/itn/es/event/fall-2018-international-investment-law-and-policy-speaker-series/
END:VEVENT
BEGIN:VEVENT
DTSTART;VALUE=DATE:20181022
DTEND;VALUE=DATE:20181027
DTSTAMP:20210316T050615
CREATED:20180515T230939Z
LAST-MODIFIED:20181221T164803Z
UID:5330-1540166400-1540598399@test.iisd.org
SUMMARY:Foro Mundial sobre las Inversiones 2018
DESCRIPTION:FORO MUNDIAL SOBRE LAS INVERSIONES 2018\, Conferencia de las Naciones Unidas sobre Comercio y Desarrollo (UNCTAD)\, Palais des Nations\, Ginebra\, Suiza\, http://unctadworldinvestmentforum.org
URL:https://test.iisd.org/itn/es/event/world-investment-forum-2018/
LOCATION:Palais des Nations\, 1211 Geneva\, Geneva\, Switzerland
END:VEVENT
BEGIN:VEVENT
DTSTART;VALUE=DATE:20181023
DTEND;VALUE=DATE:20181026
DTSTAMP:20210316T050615
CREATED:20181221T164803Z
LAST-MODIFIED:20181221T164803Z
UID:5681-1540252800-1540511999@test.iisd.org
SUMMARY:8va CONFERENCIA SOBRE EL ARBITRAJE DE TRATADOS DE INVERSIÓN
DESCRIPTION:8va CONFERENCIA SOBRE EL ARBITRAJE DE TRATADOS DE INVERSIÓN\, Ministerio de Finanzas de la República Checa y KPMG Czech Republic\, en Lichtenstein Palace\, Praga\, Checoslovaquia\, https://home.kpmg.com/cz/en/home/insights/2018/10/8th-investment-treaty-arbitration-conference.html
URL:https://test.iisd.org/itn/es/event/8th-investment-treaty-arbitration-conference/
LOCATION:Lichtenstein Palace\, U Sovových mlýnů 506/4\, Malá Strana\, 118 00\, Czech Republic
END:VEVENT
END:VCALENDAR