BEGIN:VCALENDAR
VERSION:2.0
PRODID:-//Investment Treaty News - ECPv5.4.0.2//NONSGML v1.0//EN
CALSCALE:GREGORIAN
METHOD:PUBLISH
X-WR-CALNAME:Investment Treaty News
X-ORIGINAL-URL:https://test.iisd.org/itn/es
X-WR-CALDESC:Eventos para Investment Treaty News
BEGIN:VTIMEZONE
TZID:America/Winnipeg
BEGIN:DAYLIGHT
TZOFFSETFROM:-0600
TZOFFSETTO:-0500
TZNAME:CDT
DTSTART:20190310T080000
END:DAYLIGHT
BEGIN:STANDARD
TZOFFSETFROM:-0500
TZOFFSETTO:-0600
TZNAME:CST
DTSTART:20191103T070000
END:STANDARD
END:VTIMEZONE
BEGIN:VEVENT
DTSTART;VALUE=DATE:20190124
DTEND;VALUE=DATE:20190126
DTSTAMP:20210316T061028
CREATED:20181221T164802Z
LAST-MODIFIED:20181221T164802Z
UID:5887-1548288000-1548460799@test.iisd.org
SUMMARY:6ta CONFERENCIA CONJUNTA DE ITA-IEL-ICC SOBRE ARBITRAJE INTERNACIONAL EN MATERIA DE ENERGÍA
DESCRIPTION:6ta CONFERENCIA CONJUNTA DE ITA-IEL-ICC SOBRE ARBITRAJE INTERNACIONAL EN MATERIA DE ENERGÍA\, Institute for Transnational Arbitration (ITA)\, Institute for Energy Law (IEL) del Center for American and International Law & ICC International Court of Arbitration\, en Houston\, TX\, Estados Unidos\, https://iccwbo.org/event/6th-ita-iel-icc-joint-conference-international-energy-arbitration
URL:https://test.iisd.org/itn/es/event/6th-ita-iel-icc-joint-conference-on-international-energy-arbitration/
LOCATION:Houston\, TX\, United States
END:VEVENT
END:VCALENDAR