BEGIN:VCALENDAR
VERSION:2.0
PRODID:-//Investment Treaty News - ECPv5.4.0.2//NONSGML v1.0//EN
CALSCALE:GREGORIAN
METHOD:PUBLISH
X-WR-CALNAME:Investment Treaty News
X-ORIGINAL-URL:https://test.iisd.org/itn/es
X-WR-CALDESC:Eventos para Investment Treaty News
BEGIN:VTIMEZONE
TZID:America/Winnipeg
BEGIN:DAYLIGHT
TZOFFSETFROM:-0600
TZOFFSETTO:-0500
TZNAME:CDT
DTSTART:20190310T080000
END:DAYLIGHT
BEGIN:STANDARD
TZOFFSETFROM:-0500
TZOFFSETTO:-0600
TZNAME:CST
DTSTART:20191103T070000
END:STANDARD
END:VTIMEZONE
BEGIN:VEVENT
DTSTART;VALUE=DATE:20190401
DTEND;VALUE=DATE:20190406
DTSTAMP:20210316T063346
CREATED:20181221T164801Z
LAST-MODIFIED:20181221T164801Z
UID:5895-1554076800-1554508799@test.iisd.org
SUMMARY:37ma SESIÓN DEL GRUPO DE TRABAJO III DE LA CNUDMI
DESCRIPTION:37ma SESIÓN DEL GRUPO DE TRABAJO III DE LA CNUDMI\, “Reforma de la Solución de Controversias entre Inversionistas y Estados”\, CNUDMI\, Nueva York\, NY\, Estados Unidos\, https://uncitral.un.org/en/working_groups/3/investor-state
URL:https://test.iisd.org/itn/es/event/37th-session-of-uncitral-working-group-iii/
LOCATION:United Nations Headquarters\, 46th St & 1st Ave New York\, NY 10017\, New York\, United States
END:VEVENT
END:VCALENDAR