BEGIN:VCALENDAR
VERSION:2.0
PRODID:-//Investment Treaty News - ECPv5.4.0.2//NONSGML v1.0//EN
CALSCALE:GREGORIAN
METHOD:PUBLISH
X-WR-CALNAME:Investment Treaty News
X-ORIGINAL-URL:https://test.iisd.org/itn/es
X-WR-CALDESC:Eventos para Investment Treaty News
BEGIN:VTIMEZONE
TZID:America/Winnipeg
BEGIN:DAYLIGHT
TZOFFSETFROM:-0600
TZOFFSETTO:-0500
TZNAME:CDT
DTSTART:20190310T080000
END:DAYLIGHT
BEGIN:STANDARD
TZOFFSETFROM:-0500
TZOFFSETTO:-0600
TZNAME:CST
DTSTART:20191103T070000
END:STANDARD
END:VTIMEZONE
BEGIN:VEVENT
DTSTART;VALUE=DATE:20190423
DTEND;VALUE=DATE:20190427
DTSTAMP:20210316T062847
CREATED:20190627T152841Z
LAST-MODIFIED:20190627T152841Z
UID:6205-1555977600-1556323199@test.iisd.org
SUMMARY:FORO 2019 SOBRE CADENAS DE SUMINISTRO DE MINERALES RESPONSABLES
DESCRIPTION:FORO 2019 SOBRE CADENAS DE SUMINISTRO DE MINERALES RESPONSABLES\, Organización para la Cooperación y el Desarrollo Económicos (OCDE)\, en el Centro de Conferencias de la OCDE\, en París\, Francia\, http://www.oecd.org/daf/inv/forum-responsible-mineral-supply-chains.htm
URL:https://test.iisd.org/itn/es/event/2019-forum-on-responsible-mineral-supply-chains/
LOCATION:OECD Conference Centre\, 2\, rue André Pascal\, Paris\, France
END:VEVENT
END:VCALENDAR