BEGIN:VCALENDAR
VERSION:2.0
PRODID:-//Investment Treaty News - ECPv5.4.0.2//NONSGML v1.0//EN
CALSCALE:GREGORIAN
METHOD:PUBLISH
X-WR-CALNAME:Investment Treaty News
X-ORIGINAL-URL:https://test.iisd.org/itn/es
X-WR-CALDESC:Eventos para Investment Treaty News
BEGIN:VTIMEZONE
TZID:America/Winnipeg
BEGIN:DAYLIGHT
TZOFFSETFROM:-0600
TZOFFSETTO:-0500
TZNAME:CDT
DTSTART:20190310T080000
END:DAYLIGHT
BEGIN:STANDARD
TZOFFSETFROM:-0500
TZOFFSETTO:-0600
TZNAME:CST
DTSTART:20191103T070000
END:STANDARD
END:VTIMEZONE
BEGIN:VEVENT
DTSTART;VALUE=DATE:20190603
DTEND;VALUE=DATE:20190615
DTSTAMP:20210316T061201
CREATED:20190627T152841Z
LAST-MODIFIED:20190627T152841Z
UID:6220-1559520000-1560556799@test.iisd.org
SUMMARY:CAPACITACIÓN EJECUTIVA SOBRE INDUSTRIAS EXTRACTIVAS Y DESARROLLO SOSTENIBLE
DESCRIPTION:CAPACITACIÓN EJECUTIVA SOBRE INDUSTRIAS EXTRACTIVAS Y DESARROLLO SOSTENIBLE\, Columbia Center on Sustainable Investment (CCSI)\, en la Universidad de Columbia\, en Nueva York\, Estados Unidos\, http://ccsi.columbia.edu/2019/06/03/executive-training-on-extractive-industries-and-sustainable-development
URL:https://test.iisd.org/itn/es/event/executive-training-on-extractive-industries-and-sustainable-development-2/
LOCATION:Columbia University\, 116th St & Broadway\, New York\, NY\, 10027\, United States
END:VEVENT
BEGIN:VEVENT
DTSTART;VALUE=DATE:20190611
DTEND;VALUE=DATE:20190622
DTSTAMP:20210316T061201
CREATED:20190627T152841Z
LAST-MODIFIED:20190627T152841Z
UID:6223-1560211200-1561161599@test.iisd.org
SUMMARY:CAPACITACIÓN EJECUTIVA SOBRE INVERSIONES SOSTENIBLES EN AGRICULTURA
DESCRIPTION:CAPACITACIÓN EJECUTIVA SOBRE INVERSIONES SOSTENIBLES EN AGRICULTURA\, Columbia Center on Sustainable Investment (CCSI)\, en la Universidad de Columbia\, en Nueva New York\, Estados Unidos\, http://ccsi.columbia.edu/2019/06/11/executive-training-on-sustainable-investments-in-agriculture
URL:https://test.iisd.org/itn/es/event/executive-training-on-sustainable-investments-in-agriculture-3/
LOCATION:Columbia University\, 116th St & Broadway\, New York\, NY\, 10027\, United States
END:VEVENT
BEGIN:VEVENT
DTSTART;VALUE=DATE:20190613
DTEND;VALUE=DATE:20190615
DTSTAMP:20210316T061201
CREATED:20190627T152840Z
LAST-MODIFIED:20190627T152840Z
UID:6225-1560384000-1560556799@test.iisd.org
SUMMARY:8ava CONFERENCIA SOBRE ARBITRAJE DE DIS BALTIC 2019
DESCRIPTION:8ava CONFERENCIA SOBRE ARBITRAJE DE DIS BALTIC 2019\, en Riga\, Latvia\, http://www.balticarbitration.com/en
URL:https://test.iisd.org/itn/es/event/8th-dis-baltic-arbitration-conference-2019/
LOCATION:Stockholm School of Economics\, Strēlnieku iela 4A\, Centra rajons\, Riga\, LV-1010\, Latvia
END:VEVENT
END:VCALENDAR